BEGIN:VCALENDAR
VERSION:2.0
PRODID:-//Evergreen Heritage Center Foundation - ECPv6.15.20//NONSGML v1.0//EN
CALSCALE:GREGORIAN
METHOD:PUBLISH
X-WR-CALNAME:Evergreen Heritage Center Foundation
X-ORIGINAL-URL:https://evergreenheritagecenter.org
X-WR-CALDESC:Events for Evergreen Heritage Center Foundation
REFRESH-INTERVAL;VALUE=DURATION:PT1H
X-Robots-Tag:noindex
X-PUBLISHED-TTL:PT1H
BEGIN:VTIMEZONE
TZID:America/New_York
BEGIN:DAYLIGHT
TZOFFSETFROM:-0500
TZOFFSETTO:-0400
TZNAME:EDT
DTSTART:20250309T070000
END:DAYLIGHT
BEGIN:STANDARD
TZOFFSETFROM:-0400
TZOFFSETTO:-0500
TZNAME:EST
DTSTART:20251102T060000
END:STANDARD
BEGIN:DAYLIGHT
TZOFFSETFROM:-0500
TZOFFSETTO:-0400
TZNAME:EDT
DTSTART:20260308T070000
END:DAYLIGHT
BEGIN:STANDARD
TZOFFSETFROM:-0400
TZOFFSETTO:-0500
TZNAME:EST
DTSTART:20261101T060000
END:STANDARD
BEGIN:DAYLIGHT
TZOFFSETFROM:-0500
TZOFFSETTO:-0400
TZNAME:EDT
DTSTART:20270314T070000
END:DAYLIGHT
BEGIN:STANDARD
TZOFFSETFROM:-0400
TZOFFSETTO:-0500
TZNAME:EST
DTSTART:20271107T060000
END:STANDARD
END:VTIMEZONE
BEGIN:VEVENT
DTSTART;TZID=America/New_York:20260516T100000
DTEND;TZID=America/New_York:20260516T110000
DTSTAMP:20260424T224107
CREATED:20251111T171843Z
LAST-MODIFIED:20251111T171843Z
UID:10000066-1778925600-1778929200@evergreenheritagecenter.org
SUMMARY:Guided Hike
DESCRIPTION:Join us for a FREE hike on Evergreen’s property. We’ll meet in the upper parking lot and hike out and back for ~1 hour. Our trails do not officially open to the public until June 2026\, so any hikes prior to will be a sneak peek for the public. \nThe exact trail we will be hiking will be decided at a later date. In general\, expect to hike on dirt trail through the forest with some sections being more rocky or uneven than others.
URL:https://evergreenheritagecenter.org/event/guided-hike/2026-05-16/
CATEGORIES:Guided Hike
ATTACH;FMTTYPE=image/jpeg:https://evergreenheritagecenter.org/wp-content/uploads/2025/11/Guided-Hike.jpg
END:VEVENT
BEGIN:VEVENT
DTSTART;TZID=America/New_York:20260613T100000
DTEND;TZID=America/New_York:20260613T110000
DTSTAMP:20260424T224107
CREATED:20251110T182800Z
LAST-MODIFIED:20260127T155046Z
UID:10000055-1781344800-1781348400@evergreenheritagecenter.org
SUMMARY:Trailblazing 250 Guided Hikes
DESCRIPTION:  \n  \n \nTrailblazing 250\nSaturday June 13th\nLace up your hiking boots and hit the trails on Saturday\, June 13th as we unveil a portion of the new Forest Evolution Trail! We’ll have two guided hiking options: an easy stroll down the Coal Trail and a more moderate/difficult (based 1-2 inclines) trek on down Grime’s Gulley. These interpretive hikes will highlight historical and environmental features along the trails! \nThe Coal Trail begins at the Coal Camp (adjacent to the large parking lot)\, in the location of the original coal mining camp\, with Museums and Exhibits detailing coal mining history on the property and in Allegany County. Follow the original trail\, which was once was lined with railroad tracks which transported coal across the property. \nGrime’s Gulley winds through the forest\, which was once agricultural fields\, and loops past various point of interest\, including a stone wall which was once used to divide the fields. \nMeeting Locations \nEasy hike: Meet in the Coal Camp next to the Miner’s Mule Stable @ 10:00 a.m. \nModerate/Difficult hike: Meet at the Trailhead at the far end of the large parking lot @ 10:00 a.m. \n 
URL:https://evergreenheritagecenter.org/event/run-the-revolution-5k/
CATEGORIES:Event,Guided Hike
ATTACH;FMTTYPE=image/png:https://evergreenheritagecenter.org/wp-content/uploads/2025/11/Trailblazing-250-scaled-e1769528987152.png
END:VEVENT
BEGIN:VEVENT
DTSTART;TZID=America/New_York:20260620T100000
DTEND;TZID=America/New_York:20260620T110000
DTSTAMP:20260424T224107
CREATED:20251111T171843Z
LAST-MODIFIED:20251111T171843Z
UID:10000067-1781949600-1781953200@evergreenheritagecenter.org
SUMMARY:Guided Hike
DESCRIPTION:Join us for a FREE hike on Evergreen’s property. We’ll meet in the upper parking lot and hike out and back for ~1 hour. Our trails do not officially open to the public until June 2026\, so any hikes prior to will be a sneak peek for the public. \nThe exact trail we will be hiking will be decided at a later date. In general\, expect to hike on dirt trail through the forest with some sections being more rocky or uneven than others.
URL:https://evergreenheritagecenter.org/event/guided-hike/2026-06-20/
CATEGORIES:Guided Hike
ATTACH;FMTTYPE=image/jpeg:https://evergreenheritagecenter.org/wp-content/uploads/2025/11/Guided-Hike.jpg
END:VEVENT
BEGIN:VEVENT
DTSTART;TZID=America/New_York:20260718T100000
DTEND;TZID=America/New_York:20260718T110000
DTSTAMP:20260424T224107
CREATED:20251111T171843Z
LAST-MODIFIED:20251111T171843Z
UID:10000068-1784368800-1784372400@evergreenheritagecenter.org
SUMMARY:Guided Hike
DESCRIPTION:Join us for a FREE hike on Evergreen’s property. We’ll meet in the upper parking lot and hike out and back for ~1 hour. Our trails do not officially open to the public until June 2026\, so any hikes prior to will be a sneak peek for the public. \nThe exact trail we will be hiking will be decided at a later date. In general\, expect to hike on dirt trail through the forest with some sections being more rocky or uneven than others.
URL:https://evergreenheritagecenter.org/event/guided-hike/2026-07-18/
CATEGORIES:Guided Hike
ATTACH;FMTTYPE=image/jpeg:https://evergreenheritagecenter.org/wp-content/uploads/2025/11/Guided-Hike.jpg
END:VEVENT
BEGIN:VEVENT
DTSTART;TZID=America/New_York:20260815T100000
DTEND;TZID=America/New_York:20260815T110000
DTSTAMP:20260424T224107
CREATED:20251111T171843Z
LAST-MODIFIED:20251111T171843Z
UID:10000069-1786788000-1786791600@evergreenheritagecenter.org
SUMMARY:Guided Hike
DESCRIPTION:Join us for a FREE hike on Evergreen’s property. We’ll meet in the upper parking lot and hike out and back for ~1 hour. Our trails do not officially open to the public until June 2026\, so any hikes prior to will be a sneak peek for the public. \nThe exact trail we will be hiking will be decided at a later date. In general\, expect to hike on dirt trail through the forest with some sections being more rocky or uneven than others.
URL:https://evergreenheritagecenter.org/event/guided-hike/2026-08-15/
CATEGORIES:Guided Hike
ATTACH;FMTTYPE=image/jpeg:https://evergreenheritagecenter.org/wp-content/uploads/2025/11/Guided-Hike.jpg
END:VEVENT
BEGIN:VEVENT
DTSTART;TZID=America/New_York:20260919T100000
DTEND;TZID=America/New_York:20260919T110000
DTSTAMP:20260424T224107
CREATED:20251111T171843Z
LAST-MODIFIED:20251111T171843Z
UID:10000070-1789812000-1789815600@evergreenheritagecenter.org
SUMMARY:Guided Hike
DESCRIPTION:Join us for a FREE hike on Evergreen’s property. We’ll meet in the upper parking lot and hike out and back for ~1 hour. Our trails do not officially open to the public until June 2026\, so any hikes prior to will be a sneak peek for the public. \nThe exact trail we will be hiking will be decided at a later date. In general\, expect to hike on dirt trail through the forest with some sections being more rocky or uneven than others.
URL:https://evergreenheritagecenter.org/event/guided-hike/2026-09-19/
CATEGORIES:Guided Hike
ATTACH;FMTTYPE=image/jpeg:https://evergreenheritagecenter.org/wp-content/uploads/2025/11/Guided-Hike.jpg
END:VEVENT
BEGIN:VEVENT
DTSTART;TZID=America/New_York:20261017T180000
DTEND;TZID=America/New_York:20261017T190000
DTSTAMP:20260424T224107
CREATED:20251119T141439Z
LAST-MODIFIED:20260302T174212Z
UID:10000071-1792260000-1792263600@evergreenheritagecenter.org
SUMMARY:Haunted Hike on the Hill
DESCRIPTION:Join us for a thrilling\, evening hike on the Evergreen Coal Trail! We’ll share tales of the past as we hike together right as the sun begins to set. With at least 250 years of documented history on the Evergreen property\, there will certainly be telling tale for every listener. \nThis easy hike will be on a mostly flat and grassy trail. The trail length is ~1 mile round trip. Bring a head lamp or flashlight as it may be getting dark. Depending on participant interest\, we may add another trail into the mix or hike farther along on the property. \nParking: Please check back closer to the event date for exact parking details. \nFree to attend\, donations accepted!  
URL:https://evergreenheritagecenter.org/event/haunted-hike-on-the-hill/
LOCATION:Evergreen Heritage Center\, 15613 Trimble Road Northwest\, Mount Savage\, MD\, 21545\, United States
CATEGORIES:Guided Hike
ATTACH;FMTTYPE=image/jpeg:https://evergreenheritagecenter.org/wp-content/uploads/2025/11/Haunted-Hike.jpg
END:VEVENT
END:VCALENDAR