BEGIN:VCALENDAR
VERSION:2.0
PRODID:-//Evergreen Heritage Center Foundation - ECPv6.15.20//NONSGML v1.0//EN
CALSCALE:GREGORIAN
METHOD:PUBLISH
X-ORIGINAL-URL:https://evergreenheritagecenter.org
X-WR-CALDESC:Events for Evergreen Heritage Center Foundation
REFRESH-INTERVAL;VALUE=DURATION:PT1H
X-Robots-Tag:noindex
X-PUBLISHED-TTL:PT1H
BEGIN:VTIMEZONE
TZID:America/New_York
BEGIN:DAYLIGHT
TZOFFSETFROM:-0500
TZOFFSETTO:-0400
TZNAME:EDT
DTSTART:20250309T070000
END:DAYLIGHT
BEGIN:STANDARD
TZOFFSETFROM:-0400
TZOFFSETTO:-0500
TZNAME:EST
DTSTART:20251102T060000
END:STANDARD
BEGIN:DAYLIGHT
TZOFFSETFROM:-0500
TZOFFSETTO:-0400
TZNAME:EDT
DTSTART:20260308T070000
END:DAYLIGHT
BEGIN:STANDARD
TZOFFSETFROM:-0400
TZOFFSETTO:-0500
TZNAME:EST
DTSTART:20261101T060000
END:STANDARD
BEGIN:DAYLIGHT
TZOFFSETFROM:-0500
TZOFFSETTO:-0400
TZNAME:EDT
DTSTART:20270314T070000
END:DAYLIGHT
BEGIN:STANDARD
TZOFFSETFROM:-0400
TZOFFSETTO:-0500
TZNAME:EST
DTSTART:20271107T060000
END:STANDARD
END:VTIMEZONE
BEGIN:VEVENT
DTSTART;TZID=America/New_York:20260418T100000
DTEND;TZID=America/New_York:20260418T113000
DTSTAMP:20260425T000432
CREATED:20251110T180500Z
LAST-MODIFIED:20260317T161448Z
UID:10000053-1776506400-1776511800@evergreenheritagecenter.org
SUMMARY:Woodland Natives & Pollinators
DESCRIPTION:Woodland Natives & Pollinators\n \nSaturday\, April 18th @ 10:00 a.m. to 11:30 a.m.\nLocation: Learning Center \nDuring this workshop\, learn about common woodland native plant species\, their pollinators\, and best practices for implementing them in your gardens. We’ll start with a lecture style program talking about common woodland natives and their relationship with pollinators –including native bee species! We’ll also discuss best garden-clean up methods and how they benefit pollinators. Then we’ll take a short hike across the property to see a variety of natives as they emerge for the spring. And don’t forget to check out our selection of natives while you’re here! We’re more than happy to help you select the best options to meet your needs.   \nParking: Please park in the upper parking lot and walk down over the hill. Spaces in the small lot beside the Gateway Pavilion are reserved for those needing ADA accessibility. \nCheck out our event flyer! \nRSVP for a Workshop \nPlease enable JavaScript in your browser to complete this form.Please enable JavaScript in your browser to complete this form.Name *FirstLastEmail *		\n			Party of Phone\n			\n		\n		Phone *Number of Guests in Your Party *12345Workshop Selection *4/18 Woodland Natives and Pollinators5/2 Birding Hike w/ Reillee Beeman6/15 History of the Liberty Tree & Wye Oak w/ Champ Zumbrun6/16 Make & Take Appalachian Ragdolls6/17 Visit the Bog & Make Bog Bowls6/18 our the 1822 Kitchen & Help w/ a Cooking Demo7/25 Forest to Fungi9/26 Dining in Colonial MarylandPlease select which workshops you plan to attend.How did you hear about us? *FacebookInstagramNewsletterWebsiteFlyerOtherWhat brought you here? *How would you like to get involved with us? *Attend WorkshopsAttend Kids ActivitiesHelp with Trail MaintenanceBecome a Museum DocentSupport our Plant SalesVolunteer with UsOtherSelect all that apply.Submit  \n 
URL:https://evergreenheritagecenter.org/event/woodland-natives-pollinators/
LOCATION:Evergreen Heritage Center\, 15613 Trimble Road Northwest\, Mount Savage\, MD\, 21545\, United States
CATEGORIES:Event,Plants,Workshop
ATTACH;FMTTYPE=image/jpeg:https://evergreenheritagecenter.org/wp-content/uploads/2025/11/Woodland-Natives.jpg
END:VEVENT
END:VCALENDAR