BEGIN:VCALENDAR
VERSION:2.0
PRODID:-//Evergreen Heritage Center Foundation - ECPv6.15.20//NONSGML v1.0//EN
CALSCALE:GREGORIAN
METHOD:PUBLISH
X-ORIGINAL-URL:https://evergreenheritagecenter.org
X-WR-CALDESC:Events for Evergreen Heritage Center Foundation
REFRESH-INTERVAL;VALUE=DURATION:PT1H
X-Robots-Tag:noindex
X-PUBLISHED-TTL:PT1H
BEGIN:VTIMEZONE
TZID:America/New_York
BEGIN:DAYLIGHT
TZOFFSETFROM:-0500
TZOFFSETTO:-0400
TZNAME:EDT
DTSTART:20250309T070000
END:DAYLIGHT
BEGIN:STANDARD
TZOFFSETFROM:-0400
TZOFFSETTO:-0500
TZNAME:EST
DTSTART:20251102T060000
END:STANDARD
BEGIN:DAYLIGHT
TZOFFSETFROM:-0500
TZOFFSETTO:-0400
TZNAME:EDT
DTSTART:20260308T070000
END:DAYLIGHT
BEGIN:STANDARD
TZOFFSETFROM:-0400
TZOFFSETTO:-0500
TZNAME:EST
DTSTART:20261101T060000
END:STANDARD
BEGIN:DAYLIGHT
TZOFFSETFROM:-0500
TZOFFSETTO:-0400
TZNAME:EDT
DTSTART:20270314T070000
END:DAYLIGHT
BEGIN:STANDARD
TZOFFSETFROM:-0400
TZOFFSETTO:-0500
TZNAME:EST
DTSTART:20271107T060000
END:STANDARD
END:VTIMEZONE
BEGIN:VEVENT
DTSTART;TZID=America/New_York:20260605T100000
DTEND;TZID=America/New_York:20260605T140000
DTSTAMP:20260425T002247
CREATED:20260223T175742Z
LAST-MODIFIED:20260223T175742Z
UID:10000137-1780653600-1780668000@evergreenheritagecenter.org
SUMMARY:OPEN for Museum Tours
DESCRIPTION:New in 2026! Evergreen Heritage Center will be open for Museum Tours every Wednesday and Friday from 10:00 a.m. to 2:00 p.m. from May-October. \nRegistration is not required\, but strongly recommended. Tours are free\, allow donations are always appreciated. \nMuseums and Exhibits Include: \n\nFarmhouse Museum\nLiving Off the Land Agriculture Museum\nMiner’s Coal Museum & Coal Camp\n1822 Kitchen Exhibit\nGatehouse Exhibit\n\nPlease enable JavaScript in your browser to complete this form.Please enable JavaScript in your browser to complete this form.Schedule a Museum Tour @ EvergreenOur museums are open from May to October every Wednesday and Friday from 10:00 a.m. to 2:00 p.m.  Tours are free of charge\, although donations are greatly appreciated. 		\n			Museum time your\n			\n		\n		Name *FirstLastPhone *Email *Number of Guests in Your Party *Which museums/exhibits would your like to tour? *Farmhouse MuseumLiving off the Land Agricultural MuseumMiner's Coal Museum & Coal CampGatehouse Exhibit1822 Kitchen & Garden ExhibitWhat date and time will you be visiting us? *We are open every Wednesday and Friday (10:00 a.m. to 2:00 p.m.) from May through October. Is there anything else you'd like to share?Submit
URL:https://evergreenheritagecenter.org/event/open-for-museum-tours-2/2026-06-05/
LOCATION:Evergreen Heritage Center\, 15613 Trimble Road Northwest\, Mount Savage\, MD\, 21545\, United States
CATEGORIES:Museum Tour
ATTACH;FMTTYPE=image/png:https://evergreenheritagecenter.org/wp-content/uploads/2026/02/Museum-Tours.png
END:VEVENT
BEGIN:VEVENT
DTSTART;TZID=America/New_York:20260612T100000
DTEND;TZID=America/New_York:20260612T140000
DTSTAMP:20260425T002247
CREATED:20260223T175742Z
LAST-MODIFIED:20260223T175742Z
UID:10000138-1781258400-1781272800@evergreenheritagecenter.org
SUMMARY:OPEN for Museum Tours
DESCRIPTION:New in 2026! Evergreen Heritage Center will be open for Museum Tours every Wednesday and Friday from 10:00 a.m. to 2:00 p.m. from May-October. \nRegistration is not required\, but strongly recommended. Tours are free\, allow donations are always appreciated. \nMuseums and Exhibits Include: \n\nFarmhouse Museum\nLiving Off the Land Agriculture Museum\nMiner’s Coal Museum & Coal Camp\n1822 Kitchen Exhibit\nGatehouse Exhibit\n\nPlease enable JavaScript in your browser to complete this form.Please enable JavaScript in your browser to complete this form.Schedule a Museum Tour @ EvergreenOur museums are open from May to October every Wednesday and Friday from 10:00 a.m. to 2:00 p.m.  Tours are free of charge\, although donations are greatly appreciated. Name *FirstLastPhone *Email *Number of Guests in Your Party *Which museums/exhibits would your like to tour? *Farmhouse MuseumLiving off the Land Agricultural MuseumMiner's Coal Museum & Coal CampGatehouse Exhibit1822 Kitchen & Garden ExhibitWhat date and time will you be visiting us? *We are open every Wednesday and Friday (10:00 a.m. to 2:00 p.m.) from May through October. 		\n			@ in Party\n			\n		\n		Is there anything else you'd like to share?Submit
URL:https://evergreenheritagecenter.org/event/open-for-museum-tours-2/2026-06-12/
LOCATION:Evergreen Heritage Center\, 15613 Trimble Road Northwest\, Mount Savage\, MD\, 21545\, United States
CATEGORIES:Museum Tour
ATTACH;FMTTYPE=image/png:https://evergreenheritagecenter.org/wp-content/uploads/2026/02/Museum-Tours.png
END:VEVENT
BEGIN:VEVENT
DTSTART;TZID=America/New_York:20260619T100000
DTEND;TZID=America/New_York:20260619T140000
DTSTAMP:20260425T002247
CREATED:20260223T175742Z
LAST-MODIFIED:20260223T175742Z
UID:10000139-1781863200-1781877600@evergreenheritagecenter.org
SUMMARY:OPEN for Museum Tours
DESCRIPTION:New in 2026! Evergreen Heritage Center will be open for Museum Tours every Wednesday and Friday from 10:00 a.m. to 2:00 p.m. from May-October. \nRegistration is not required\, but strongly recommended. Tours are free\, allow donations are always appreciated. \nMuseums and Exhibits Include: \n\nFarmhouse Museum\nLiving Off the Land Agriculture Museum\nMiner’s Coal Museum & Coal Camp\n1822 Kitchen Exhibit\nGatehouse Exhibit\n\nPlease enable JavaScript in your browser to complete this form.Please enable JavaScript in your browser to complete this form.Schedule a Museum Tour @ EvergreenOur museums are open from May to October every Wednesday and Friday from 10:00 a.m. to 2:00 p.m.  Tours are free of charge\, although donations are greatly appreciated. Name *FirstLastPhone *		\n			there time visiting\n			\n		\n		Email *Number of Guests in Your Party *Which museums/exhibits would your like to tour? *Farmhouse MuseumLiving off the Land Agricultural MuseumMiner's Coal Museum & Coal CampGatehouse Exhibit1822 Kitchen & Garden ExhibitWhat date and time will you be visiting us? *We are open every Wednesday and Friday (10:00 a.m. to 2:00 p.m.) from May through October. Is there anything else you'd like to share?Submit
URL:https://evergreenheritagecenter.org/event/open-for-museum-tours-2/2026-06-19/
LOCATION:Evergreen Heritage Center\, 15613 Trimble Road Northwest\, Mount Savage\, MD\, 21545\, United States
CATEGORIES:Museum Tour
ATTACH;FMTTYPE=image/png:https://evergreenheritagecenter.org/wp-content/uploads/2026/02/Museum-Tours.png
END:VEVENT
BEGIN:VEVENT
DTSTART;TZID=America/New_York:20260626T100000
DTEND;TZID=America/New_York:20260626T140000
DTSTAMP:20260425T002247
CREATED:20260223T175742Z
LAST-MODIFIED:20260223T175742Z
UID:10000140-1782468000-1782482400@evergreenheritagecenter.org
SUMMARY:OPEN for Museum Tours
DESCRIPTION:New in 2026! Evergreen Heritage Center will be open for Museum Tours every Wednesday and Friday from 10:00 a.m. to 2:00 p.m. from May-October. \nRegistration is not required\, but strongly recommended. Tours are free\, allow donations are always appreciated. \nMuseums and Exhibits Include: \n\nFarmhouse Museum\nLiving Off the Land Agriculture Museum\nMiner’s Coal Museum & Coal Camp\n1822 Kitchen Exhibit\nGatehouse Exhibit\n\nPlease enable JavaScript in your browser to complete this form.Please enable JavaScript in your browser to complete this form.Schedule a Museum Tour @ EvergreenOur museums are open from May to October every Wednesday and Friday from 10:00 a.m. to 2:00 p.m.  Tours are free of charge\, although donations are greatly appreciated. Name *FirstLast		\n			there @ Which\n			\n		\n		Phone *Email *Number of Guests in Your Party *Which museums/exhibits would your like to tour? *Farmhouse MuseumLiving off the Land Agricultural MuseumMiner's Coal Museum & Coal CampGatehouse Exhibit1822 Kitchen & Garden ExhibitWhat date and time will you be visiting us? *We are open every Wednesday and Friday (10:00 a.m. to 2:00 p.m.) from May through October. Is there anything else you'd like to share?Submit
URL:https://evergreenheritagecenter.org/event/open-for-museum-tours-2/2026-06-26/
LOCATION:Evergreen Heritage Center\, 15613 Trimble Road Northwest\, Mount Savage\, MD\, 21545\, United States
CATEGORIES:Museum Tour
ATTACH;FMTTYPE=image/png:https://evergreenheritagecenter.org/wp-content/uploads/2026/02/Museum-Tours.png
END:VEVENT
END:VCALENDAR