BEGIN:VCALENDAR
VERSION:2.0
PRODID:-//Evergreen Heritage Center Foundation - ECPv6.15.20//NONSGML v1.0//EN
CALSCALE:GREGORIAN
METHOD:PUBLISH
X-ORIGINAL-URL:https://evergreenheritagecenter.org
X-WR-CALDESC:Events for Evergreen Heritage Center Foundation
REFRESH-INTERVAL;VALUE=DURATION:PT1H
X-Robots-Tag:noindex
X-PUBLISHED-TTL:PT1H
BEGIN:VTIMEZONE
TZID:America/New_York
BEGIN:DAYLIGHT
TZOFFSETFROM:-0500
TZOFFSETTO:-0400
TZNAME:EDT
DTSTART:20250309T070000
END:DAYLIGHT
BEGIN:STANDARD
TZOFFSETFROM:-0400
TZOFFSETTO:-0500
TZNAME:EST
DTSTART:20251102T060000
END:STANDARD
BEGIN:DAYLIGHT
TZOFFSETFROM:-0500
TZOFFSETTO:-0400
TZNAME:EDT
DTSTART:20260308T070000
END:DAYLIGHT
BEGIN:STANDARD
TZOFFSETFROM:-0400
TZOFFSETTO:-0500
TZNAME:EST
DTSTART:20261101T060000
END:STANDARD
BEGIN:DAYLIGHT
TZOFFSETFROM:-0500
TZOFFSETTO:-0400
TZNAME:EDT
DTSTART:20270314T070000
END:DAYLIGHT
BEGIN:STANDARD
TZOFFSETFROM:-0400
TZOFFSETTO:-0500
TZNAME:EST
DTSTART:20271107T060000
END:STANDARD
END:VTIMEZONE
BEGIN:VEVENT
DTSTART;TZID=America/New_York:20260502T100000
DTEND;TZID=America/New_York:20260502T113000
DTSTAMP:20260425T000453
CREATED:20251110T204307Z
LAST-MODIFIED:20260317T172815Z
UID:10000061-1777716000-1777721400@evergreenheritagecenter.org
SUMMARY:Mommy & Me: All About Birds
DESCRIPTION:Mommy & Me: All About Birds\nJoin us for our second Mommy & Me of the season. We’ll read a story\, make bird feeders\, and sing together. \nLearn with the Littles at Evergreen’s Mommy & Me programs. Programs are held on the first Saturday of each month (except July 4th). Each program begins at 10:00 a.m. and runs until 11:30 a.m. We’ll read a story\, make a craft\, and sing along. \nCheck out our event flyer here! \nRegistration is required. A minimum of eight (5) child participants must be registered five (5) days in advance to hold the event. In the event of cancellation\, we will notify participants by email. \nPlease enable JavaScript in your browser to complete this form.Please enable JavaScript in your browser to complete this form.Parent/Guardian Name *FirstLastEmail *Phone		\n			Name Parent/Guardian to\n			\n		\n		Child/Children's First Names *Select Your Date(s) & Number of ChildrenThe cost is $12 per child per event. These fees cover the expenses of supplies and staffing. 4/4 Natural Egg Dying1 child - $12.002 children - $24.003 children - $36.005/2 All About Birds1 child - $12.002 children - $24.003 children - $36.006/6 Fairy Tea Party1 child - $12.002 children - $24.003 children - $36.008/1 Cool Down with Ice Science1 child - $12.002 children - $24.003 children - $36.009/5 Fun with Clay1 child - $12.002 children - $24.003 children - $36.0010/3 Bouncing Bullfrogs1 child - $12.002 children - $24.003 children - $36.00How would you like to pay? *In-person (cash or check)CardIf you would like to pay by card\, we will reach out with a direct link and code to use to pay for your Mommy & Me!Total$0.00Submit  \n 
URL:https://evergreenheritagecenter.org/event/mommy-me-bird-feeders/
CATEGORIES:Children's Activity,Mommy & Me
ATTACH;FMTTYPE=image/png:https://evergreenheritagecenter.org/wp-content/uploads/2025/11/Mommy-Me.png
END:VEVENT
BEGIN:VEVENT
DTSTART;TZID=America/New_York:20260606T100000
DTEND;TZID=America/New_York:20260606T113000
DTSTAMP:20260425T000453
CREATED:20251110T205743Z
LAST-MODIFIED:20260317T172444Z
UID:10000062-1780740000-1780745400@evergreenheritagecenter.org
SUMMARY:Mommy & Me: Fairy Tea Party
DESCRIPTION:Mommy & Me: Fairy Tea Party\nJoin us for Mommy & Me! We’ll read a story\, make our own fairy dolls\, and have tea with the fairies in the garden. \nLearn with the Littles at Evergreen’s Mommy & Me programs. Programs are held on the first Saturday of each month (except July 4th). Each program begins at 10:00 a.m. and runs until 11:30 a.m. We’ll read a story\, make a craft\, and sing along. \nCheck out our event flyer here! \nRegistration is required. A minimum of eight (5) child participants must be registered five (5) days in advance to hold the event. In the event of cancellation\, we will notify participants by email. \nPlease enable JavaScript in your browser to complete this form.Please enable JavaScript in your browser to complete this form.Parent/Guardian Name *FirstLastEmail *PhoneChild/Children's First Names *Select Your Date(s) & Number of ChildrenThe cost is $12 per child per event. These fees cover the expenses of supplies and staffing. 4/4 Natural Egg Dying1 child - $12.002 children - $24.003 children - $36.005/2 All About Birds1 child - $12.002 children - $24.003 children - $36.006/6 Fairy Tea Party1 child - $12.002 children - $24.003 children - $36.008/1 Cool Down with Ice Science1 child - $12.002 children - $24.003 children - $36.009/5 Fun with Clay1 child - $12.002 children - $24.003 children - $36.0010/3 Bouncing Bullfrogs1 child - $12.002 children - $24.003 children - $36.00How would you like to pay? *In-person (cash or check)CardIf you would like to pay by card\, we will reach out with a direct link and code to use to pay for your Mommy & Me!		\n			Egg Natural would\n			\n		\n		Total$0.00Submit  \n 
URL:https://evergreenheritagecenter.org/event/mommy-me-fairy-tea-party/
CATEGORIES:Children's Activity,Mommy & Me
ATTACH;FMTTYPE=image/png:https://evergreenheritagecenter.org/wp-content/uploads/2025/11/Mommy-Me.png
END:VEVENT
BEGIN:VEVENT
DTSTART;TZID=America/New_York:20260801T100000
DTEND;TZID=America/New_York:20260801T113000
DTSTAMP:20260425T000453
CREATED:20251111T162828Z
LAST-MODIFIED:20260317T172220Z
UID:10000063-1785578400-1785583800@evergreenheritagecenter.org
SUMMARY:Mommy & Me: Cool Down w/ Ice Science
DESCRIPTION:Mommy & Me: Cool Down w/ Ice Science\nJoin us for Mommy & Me! We’ll read a story\, do some experiments\, and sing together. \nLearn with the Littles at Evergreen’s Mommy & Me programs. Programs are held on the first Saturday of each month (except July 4th). Each program begins at 10:00 a.m. and runs until 11:30 a.m. We’ll read a story\, make a craft\, and sing along. \nCheck out our event flyer here! \nRegistration is required. A minimum of eight (5) child participants must be registered five (5) days in advance to hold the event. In the event of cancellation\, we will notify participants by email. \nPlease enable JavaScript in your browser to complete this form.Please enable JavaScript in your browser to complete this form.Parent/Guardian Name *FirstLastEmail *PhoneChild/Children's First Names *Select Your Date(s) & Number of ChildrenThe cost is $12 per child per event. These fees cover the expenses of supplies and staffing. 		\n			Names 5/2 with\n			\n		\n		4/4 Natural Egg Dying1 child - $12.002 children - $24.003 children - $36.005/2 All About Birds1 child - $12.002 children - $24.003 children - $36.006/6 Fairy Tea Party1 child - $12.002 children - $24.003 children - $36.008/1 Cool Down with Ice Science1 child - $12.002 children - $24.003 children - $36.009/5 Fun with Clay1 child - $12.002 children - $24.003 children - $36.0010/3 Bouncing Bullfrogs1 child - $12.002 children - $24.003 children - $36.00How would you like to pay? *In-person (cash or check)CardIf you would like to pay by card\, we will reach out with a direct link and code to use to pay for your Mommy & Me!Total$0.00Submit  \n 
URL:https://evergreenheritagecenter.org/event/mommy-me-ice-science/
CATEGORIES:Children's Activity,Mommy & Me
ATTACH;FMTTYPE=image/png:https://evergreenheritagecenter.org/wp-content/uploads/2025/11/Mommy-Me.png
END:VEVENT
BEGIN:VEVENT
DTSTART;TZID=America/New_York:20260905T100000
DTEND;TZID=America/New_York:20260905T113000
DTSTAMP:20260425T000453
CREATED:20251111T163208Z
LAST-MODIFIED:20260317T172013Z
UID:10000064-1788602400-1788607800@evergreenheritagecenter.org
SUMMARY:Mommy & Me: Fun with Clay
DESCRIPTION:Mommy & Me: Fun with Clay\nJoin us for Mommy & Me! We’ll read a story\, play with clay\, and sing together. \nLearn with the Littles at Evergreen’s Mommy & Me programs. Programs are held on the first Saturday of each month (except July 4th). Each program begins at 10:00 a.m. and runs until 11:30 a.m. We’ll read a story\, make a craft\, and sing along. \nCheck out our event flyer here! \nRegistration is required. A minimum of eight (5) child participants must be registered five (5) days in advance to hold the event. In the event of cancellation\, we will notify participants by email. \nPlease enable JavaScript in your browser to complete this form.Please enable JavaScript in your browser to complete this form.		\n			About you Natural\n			\n		\n		Parent/Guardian Name *FirstLastEmail *PhoneChild/Children's First Names *Select Your Date(s) & Number of ChildrenThe cost is $12 per child per event. These fees cover the expenses of supplies and staffing. 4/4 Natural Egg Dying1 child - $12.002 children - $24.003 children - $36.005/2 All About Birds1 child - $12.002 children - $24.003 children - $36.006/6 Fairy Tea Party1 child - $12.002 children - $24.003 children - $36.008/1 Cool Down with Ice Science1 child - $12.002 children - $24.003 children - $36.009/5 Fun with Clay1 child - $12.002 children - $24.003 children - $36.0010/3 Bouncing Bullfrogs1 child - $12.002 children - $24.003 children - $36.00How would you like to pay? *In-person (cash or check)CardIf you would like to pay by card\, we will reach out with a direct link and code to use to pay for your Mommy & Me!Total$0.00Submit  \n 
URL:https://evergreenheritagecenter.org/event/mommy-me-clay/
CATEGORIES:Children's Activity,Mommy & Me
ATTACH;FMTTYPE=image/png:https://evergreenheritagecenter.org/wp-content/uploads/2025/11/Mommy-Me.png
END:VEVENT
BEGIN:VEVENT
DTSTART;TZID=America/New_York:20261003T100000
DTEND;TZID=America/New_York:20261003T113000
DTSTAMP:20260425T000453
CREATED:20251111T164213Z
LAST-MODIFIED:20260317T171728Z
UID:10000065-1791021600-1791027000@evergreenheritagecenter.org
SUMMARY:Mommy & Me: Bouncing Bullfrogs
DESCRIPTION:Mommy & Me: Bouncing Bullfrogs\nJoin us for Mommy & Me! We’ll read a story\, do a bullfrog craft\, and sing together. \nLearn with the Littles at Evergreen’s Mommy & Me programs. Programs are held on the first Saturday of each month (except July 4th). Each program begins at 10:00 a.m. and runs until 11:30 a.m. We’ll read a story\, make a craft\, and sing along. \nCheck out our event flyer here! \nRegistration is required. A minimum of eight (5) child participants must be registered five (5) days in advance to hold the event. In the event of cancellation\, we will notify participants by email. \nPlease enable JavaScript in your browser to complete this form.Please enable JavaScript in your browser to complete this form.Parent/Guardian Name *FirstLastEmail *		\n			pay? Your Cool\n			\n		\n		PhoneChild/Children's First Names *Select Your Date(s) & Number of ChildrenThe cost is $12 per child per event. These fees cover the expenses of supplies and staffing. 4/4 Natural Egg Dying1 child - $12.002 children - $24.003 children - $36.005/2 All About Birds1 child - $12.002 children - $24.003 children - $36.006/6 Fairy Tea Party1 child - $12.002 children - $24.003 children - $36.008/1 Cool Down with Ice Science1 child - $12.002 children - $24.003 children - $36.009/5 Fun with Clay1 child - $12.002 children - $24.003 children - $36.0010/3 Bouncing Bullfrogs1 child - $12.002 children - $24.003 children - $36.00How would you like to pay? *In-person (cash or check)CardIf you would like to pay by card\, we will reach out with a direct link and code to use to pay for your Mommy & Me!Total$0.00Submit  \n 
URL:https://evergreenheritagecenter.org/event/mommy-me-bullfrog/
CATEGORIES:Children's Activity,Mommy & Me
ATTACH;FMTTYPE=image/png:https://evergreenheritagecenter.org/wp-content/uploads/2025/11/Mommy-Me.png
END:VEVENT
END:VCALENDAR