BEGIN:VCALENDAR
VERSION:2.0
PRODID:-//Evergreen Heritage Center Foundation - ECPv6.15.20//NONSGML v1.0//EN
CALSCALE:GREGORIAN
METHOD:PUBLISH
X-ORIGINAL-URL:https://evergreenheritagecenter.org
X-WR-CALDESC:Events for Evergreen Heritage Center Foundation
REFRESH-INTERVAL;VALUE=DURATION:PT1H
X-Robots-Tag:noindex
X-PUBLISHED-TTL:PT1H
BEGIN:VTIMEZONE
TZID:America/New_York
BEGIN:DAYLIGHT
TZOFFSETFROM:-0500
TZOFFSETTO:-0400
TZNAME:EDT
DTSTART:20250309T070000
END:DAYLIGHT
BEGIN:STANDARD
TZOFFSETFROM:-0400
TZOFFSETTO:-0500
TZNAME:EST
DTSTART:20251102T060000
END:STANDARD
BEGIN:DAYLIGHT
TZOFFSETFROM:-0500
TZOFFSETTO:-0400
TZNAME:EDT
DTSTART:20260308T070000
END:DAYLIGHT
BEGIN:STANDARD
TZOFFSETFROM:-0400
TZOFFSETTO:-0500
TZNAME:EST
DTSTART:20261101T060000
END:STANDARD
BEGIN:DAYLIGHT
TZOFFSETFROM:-0500
TZOFFSETTO:-0400
TZNAME:EDT
DTSTART:20270314T070000
END:DAYLIGHT
BEGIN:STANDARD
TZOFFSETFROM:-0400
TZOFFSETTO:-0500
TZNAME:EST
DTSTART:20271107T060000
END:STANDARD
END:VTIMEZONE
BEGIN:VEVENT
DTSTART;TZID=America/New_York:20260501T100000
DTEND;TZID=America/New_York:20260501T140000
DTSTAMP:20260425T000148
CREATED:20260223T175742Z
LAST-MODIFIED:20260223T175742Z
UID:10000132-1777629600-1777644000@evergreenheritagecenter.org
SUMMARY:OPEN for Museum Tours
DESCRIPTION:New in 2026! Evergreen Heritage Center will be open for Museum Tours every Wednesday and Friday from 10:00 a.m. to 2:00 p.m. from May-October. \nRegistration is not required\, but strongly recommended. Tours are free\, allow donations are always appreciated. \nMuseums and Exhibits Include: \n\nFarmhouse Museum\nLiving Off the Land Agriculture Museum\nMiner’s Coal Museum & Coal Camp\n1822 Kitchen Exhibit\nGatehouse Exhibit\n\nPlease enable JavaScript in your browser to complete this form.Please enable JavaScript in your browser to complete this form.Schedule a Museum Tour @ EvergreenOur museums are open from May to October every Wednesday and Friday from 10:00 a.m. to 2:00 p.m.  Tours are free of charge\, although donations are greatly appreciated. Name *FirstLastPhone *		\n			Your date @\n			\n		\n		Email *Number of Guests in Your Party *Which museums/exhibits would your like to tour? *Farmhouse MuseumLiving off the Land Agricultural MuseumMiner's Coal Museum & Coal CampGatehouse Exhibit1822 Kitchen & Garden ExhibitWhat date and time will you be visiting us? *We are open every Wednesday and Friday (10:00 a.m. to 2:00 p.m.) from May through October. Is there anything else you'd like to share?Submit
URL:https://evergreenheritagecenter.org/event/open-for-museum-tours-2/2026-05-01/
LOCATION:Evergreen Heritage Center\, 15613 Trimble Road Northwest\, Mount Savage\, MD\, 21545\, United States
CATEGORIES:Museum Tour
ATTACH;FMTTYPE=image/png:https://evergreenheritagecenter.org/wp-content/uploads/2026/02/Museum-Tours.png
END:VEVENT
BEGIN:VEVENT
DTSTART;TZID=America/New_York:20260502T130000
DTEND;TZID=America/New_York:20260502T160000
DTSTAMP:20260425T000148
CREATED:20251110T181739Z
LAST-MODIFIED:20260422T164511Z
UID:10000054-1777726800-1777737600@evergreenheritagecenter.org
SUMMARY:Spring Festival & Native Plant Sale
DESCRIPTION:Spring Festival Open House\nSaturday\, May 2 @ 1:00 p.m. to 4:00 p.m.\nFamily fun on the Farm– Join us for our first Open House of the year! Purchase native plants from our annual sale. We’ll have a variety of options including fan favorites such as butterfly weed\, paw paw trees\, and more! Tour our museums and exhibits: Farmhouse Museum\, Living Off the Land Agricultural Museum\, Miner’s Mule Stable\, Boarding House\, Blacksmith Shop\, Mine Opening\, Gatehouse\, and the 1822 Kitchen & Garden. Then grab a bite to eat and visit with local vendors. Make and Take activities for all ages including a plant your own herb station\, wreath making\, and paint your own plant tags! \n*Time Change! At 11:30 a.m. join AmeriCorps Alum\, Reillee Beeman for a guided birding hike. Meet at the Evergreen Barn! \nParking: Please park in the upper parking lot and walk down over the hill. Spaces in the small lot beside the Gateway Pavilion are reserved for those needing ADA accessibility. \nCheck out the event flyer here!
URL:https://evergreenheritagecenter.org/event/spring-festival/
LOCATION:Evergreen Heritage Center\, 15613 Trimble Road Northwest\, Mount Savage\, MD\, 21545\, United States
CATEGORIES:Event,Open House
ATTACH;FMTTYPE=image/jpeg:https://evergreenheritagecenter.org/wp-content/uploads/2025/11/Spring-Fest.jpg
END:VEVENT
BEGIN:VEVENT
DTSTART;TZID=America/New_York:20260508T100000
DTEND;TZID=America/New_York:20260508T140000
DTSTAMP:20260425T000148
CREATED:20260223T175742Z
LAST-MODIFIED:20260223T175742Z
UID:10000133-1778234400-1778248800@evergreenheritagecenter.org
SUMMARY:OPEN for Museum Tours
DESCRIPTION:New in 2026! Evergreen Heritage Center will be open for Museum Tours every Wednesday and Friday from 10:00 a.m. to 2:00 p.m. from May-October. \nRegistration is not required\, but strongly recommended. Tours are free\, allow donations are always appreciated. \nMuseums and Exhibits Include: \n\nFarmhouse Museum\nLiving Off the Land Agriculture Museum\nMiner’s Coal Museum & Coal Camp\n1822 Kitchen Exhibit\nGatehouse Exhibit\n\nPlease enable JavaScript in your browser to complete this form.Please enable JavaScript in your browser to complete this form.Schedule a Museum Tour @ EvergreenOur museums are open from May to October every Wednesday and Friday from 10:00 a.m. to 2:00 p.m.  Tours are free of charge\, although donations are greatly appreciated. Name *FirstLastPhone *Email *Number of Guests in Your Party *Which museums/exhibits would your like to tour? *Farmhouse MuseumLiving off the Land Agricultural MuseumMiner's Coal Museum & Coal CampGatehouse Exhibit1822 Kitchen & Garden Exhibit		\n			to like be\n			\n		\n		What date and time will you be visiting us? *We are open every Wednesday and Friday (10:00 a.m. to 2:00 p.m.) from May through October. Is there anything else you'd like to share?Submit
URL:https://evergreenheritagecenter.org/event/open-for-museum-tours-2/2026-05-08/
LOCATION:Evergreen Heritage Center\, 15613 Trimble Road Northwest\, Mount Savage\, MD\, 21545\, United States
CATEGORIES:Museum Tour
ATTACH;FMTTYPE=image/png:https://evergreenheritagecenter.org/wp-content/uploads/2026/02/Museum-Tours.png
END:VEVENT
BEGIN:VEVENT
DTSTART;TZID=America/New_York:20260515T100000
DTEND;TZID=America/New_York:20260515T140000
DTSTAMP:20260425T000148
CREATED:20260223T175742Z
LAST-MODIFIED:20260223T175742Z
UID:10000134-1778839200-1778853600@evergreenheritagecenter.org
SUMMARY:OPEN for Museum Tours
DESCRIPTION:New in 2026! Evergreen Heritage Center will be open for Museum Tours every Wednesday and Friday from 10:00 a.m. to 2:00 p.m. from May-October. \nRegistration is not required\, but strongly recommended. Tours are free\, allow donations are always appreciated. \nMuseums and Exhibits Include: \n\nFarmhouse Museum\nLiving Off the Land Agriculture Museum\nMiner’s Coal Museum & Coal Camp\n1822 Kitchen Exhibit\nGatehouse Exhibit\n\nPlease enable JavaScript in your browser to complete this form.Please enable JavaScript in your browser to complete this form.Schedule a Museum Tour @ EvergreenOur museums are open from May to October every Wednesday and Friday from 10:00 a.m. to 2:00 p.m.  Tours are free of charge\, although donations are greatly appreciated. Name *FirstLastPhone *Email *Number of Guests in Your Party *Which museums/exhibits would your like to tour? *Farmhouse MuseumLiving off the Land Agricultural MuseumMiner's Coal Museum & Coal CampGatehouse Exhibit1822 Kitchen & Garden ExhibitWhat date and time will you be visiting us? *We are open every Wednesday and Friday (10:00 a.m. to 2:00 p.m.) from May through October. 		\n			Schedule time to\n			\n		\n		Is there anything else you'd like to share?Submit
URL:https://evergreenheritagecenter.org/event/open-for-museum-tours-2/2026-05-15/
LOCATION:Evergreen Heritage Center\, 15613 Trimble Road Northwest\, Mount Savage\, MD\, 21545\, United States
CATEGORIES:Museum Tour
ATTACH;FMTTYPE=image/png:https://evergreenheritagecenter.org/wp-content/uploads/2026/02/Museum-Tours.png
END:VEVENT
BEGIN:VEVENT
DTSTART;TZID=America/New_York:20260522T100000
DTEND;TZID=America/New_York:20260522T140000
DTSTAMP:20260425T000148
CREATED:20260223T175742Z
LAST-MODIFIED:20260223T175742Z
UID:10000135-1779444000-1779458400@evergreenheritagecenter.org
SUMMARY:OPEN for Museum Tours
DESCRIPTION:New in 2026! Evergreen Heritage Center will be open for Museum Tours every Wednesday and Friday from 10:00 a.m. to 2:00 p.m. from May-October. \nRegistration is not required\, but strongly recommended. Tours are free\, allow donations are always appreciated. \nMuseums and Exhibits Include: \n\nFarmhouse Museum\nLiving Off the Land Agriculture Museum\nMiner’s Coal Museum & Coal Camp\n1822 Kitchen Exhibit\nGatehouse Exhibit\n\nPlease enable JavaScript in your browser to complete this form.Please enable JavaScript in your browser to complete this form.Schedule a Museum Tour @ EvergreenOur museums are open from May to October every Wednesday and Friday from 10:00 a.m. to 2:00 p.m.  Tours are free of charge\, although donations are greatly appreciated. Name *FirstLastPhone *Email *Number of Guests in Your Party *		\n			will you @\n			\n		\n		Which museums/exhibits would your like to tour? *Farmhouse MuseumLiving off the Land Agricultural MuseumMiner's Coal Museum & Coal CampGatehouse Exhibit1822 Kitchen & Garden ExhibitWhat date and time will you be visiting us? *We are open every Wednesday and Friday (10:00 a.m. to 2:00 p.m.) from May through October. Is there anything else you'd like to share?Submit
URL:https://evergreenheritagecenter.org/event/open-for-museum-tours-2/2026-05-22/
LOCATION:Evergreen Heritage Center\, 15613 Trimble Road Northwest\, Mount Savage\, MD\, 21545\, United States
CATEGORIES:Museum Tour
ATTACH;FMTTYPE=image/png:https://evergreenheritagecenter.org/wp-content/uploads/2026/02/Museum-Tours.png
END:VEVENT
BEGIN:VEVENT
DTSTART;TZID=America/New_York:20260529T100000
DTEND;TZID=America/New_York:20260529T140000
DTSTAMP:20260425T000148
CREATED:20260223T175742Z
LAST-MODIFIED:20260223T175742Z
UID:10000136-1780048800-1780063200@evergreenheritagecenter.org
SUMMARY:OPEN for Museum Tours
DESCRIPTION:New in 2026! Evergreen Heritage Center will be open for Museum Tours every Wednesday and Friday from 10:00 a.m. to 2:00 p.m. from May-October. \nRegistration is not required\, but strongly recommended. Tours are free\, allow donations are always appreciated. \nMuseums and Exhibits Include: \n\nFarmhouse Museum\nLiving Off the Land Agriculture Museum\nMiner’s Coal Museum & Coal Camp\n1822 Kitchen Exhibit\nGatehouse Exhibit\n\nPlease enable JavaScript in your browser to complete this form.Please enable JavaScript in your browser to complete this form.Schedule a Museum Tour @ EvergreenOur museums are open from May to October every Wednesday and Friday from 10:00 a.m. to 2:00 p.m.  Tours are free of charge\, although donations are greatly appreciated. Name *FirstLastPhone *Email *Number of Guests in Your Party *Which museums/exhibits would your like to tour? *Farmhouse MuseumLiving off the Land Agricultural MuseumMiner's Coal Museum & Coal CampGatehouse Exhibit1822 Kitchen & Garden Exhibit		\n			like Email Evergreen\n			\n		\n		What date and time will you be visiting us? *We are open every Wednesday and Friday (10:00 a.m. to 2:00 p.m.) from May through October. Is there anything else you'd like to share?Submit
URL:https://evergreenheritagecenter.org/event/open-for-museum-tours-2/2026-05-29/
LOCATION:Evergreen Heritage Center\, 15613 Trimble Road Northwest\, Mount Savage\, MD\, 21545\, United States
CATEGORIES:Museum Tour
ATTACH;FMTTYPE=image/png:https://evergreenheritagecenter.org/wp-content/uploads/2026/02/Museum-Tours.png
END:VEVENT
END:VCALENDAR