BEGIN:VCALENDAR
VERSION:2.0
PRODID:-//Evergreen Heritage Center Foundation - ECPv6.15.20//NONSGML v1.0//EN
CALSCALE:GREGORIAN
METHOD:PUBLISH
X-ORIGINAL-URL:https://evergreenheritagecenter.org
X-WR-CALDESC:Events for Evergreen Heritage Center Foundation
REFRESH-INTERVAL;VALUE=DURATION:PT1H
X-Robots-Tag:noindex
X-PUBLISHED-TTL:PT1H
BEGIN:VTIMEZONE
TZID:America/New_York
BEGIN:DAYLIGHT
TZOFFSETFROM:-0500
TZOFFSETTO:-0400
TZNAME:EDT
DTSTART:20250309T070000
END:DAYLIGHT
BEGIN:STANDARD
TZOFFSETFROM:-0400
TZOFFSETTO:-0500
TZNAME:EST
DTSTART:20251102T060000
END:STANDARD
BEGIN:DAYLIGHT
TZOFFSETFROM:-0500
TZOFFSETTO:-0400
TZNAME:EDT
DTSTART:20260308T070000
END:DAYLIGHT
BEGIN:STANDARD
TZOFFSETFROM:-0400
TZOFFSETTO:-0500
TZNAME:EST
DTSTART:20261101T060000
END:STANDARD
BEGIN:DAYLIGHT
TZOFFSETFROM:-0500
TZOFFSETTO:-0400
TZNAME:EDT
DTSTART:20270314T070000
END:DAYLIGHT
BEGIN:STANDARD
TZOFFSETFROM:-0400
TZOFFSETTO:-0500
TZNAME:EST
DTSTART:20271107T060000
END:STANDARD
END:VTIMEZONE
BEGIN:VEVENT
DTSTART;TZID=America/New_York:20260502T130000
DTEND;TZID=America/New_York:20260502T160000
DTSTAMP:20260425T000522
CREATED:20251110T181739Z
LAST-MODIFIED:20260422T164511Z
UID:10000054-1777726800-1777737600@evergreenheritagecenter.org
SUMMARY:Spring Festival & Native Plant Sale
DESCRIPTION:Spring Festival Open House\nSaturday\, May 2 @ 1:00 p.m. to 4:00 p.m.\nFamily fun on the Farm– Join us for our first Open House of the year! Purchase native plants from our annual sale. We’ll have a variety of options including fan favorites such as butterfly weed\, paw paw trees\, and more! Tour our museums and exhibits: Farmhouse Museum\, Living Off the Land Agricultural Museum\, Miner’s Mule Stable\, Boarding House\, Blacksmith Shop\, Mine Opening\, Gatehouse\, and the 1822 Kitchen & Garden. Then grab a bite to eat and visit with local vendors. Make and Take activities for all ages including a plant your own herb station\, wreath making\, and paint your own plant tags! \n*Time Change! At 11:30 a.m. join AmeriCorps Alum\, Reillee Beeman for a guided birding hike. Meet at the Evergreen Barn! \nParking: Please park in the upper parking lot and walk down over the hill. Spaces in the small lot beside the Gateway Pavilion are reserved for those needing ADA accessibility. \nCheck out the event flyer here!
URL:https://evergreenheritagecenter.org/event/spring-festival/
LOCATION:Evergreen Heritage Center\, 15613 Trimble Road Northwest\, Mount Savage\, MD\, 21545\, United States
CATEGORIES:Event,Open House
ATTACH;FMTTYPE=image/jpeg:https://evergreenheritagecenter.org/wp-content/uploads/2025/11/Spring-Fest.jpg
END:VEVENT
END:VCALENDAR