BEGIN:VCALENDAR
VERSION:2.0
PRODID:-//Evergreen Heritage Center Foundation - ECPv6.15.20//NONSGML v1.0//EN
CALSCALE:GREGORIAN
METHOD:PUBLISH
X-WR-CALNAME:Evergreen Heritage Center Foundation
X-ORIGINAL-URL:https://evergreenheritagecenter.org
X-WR-CALDESC:Events for Evergreen Heritage Center Foundation
REFRESH-INTERVAL;VALUE=DURATION:PT1H
X-Robots-Tag:noindex
X-PUBLISHED-TTL:PT1H
BEGIN:VTIMEZONE
TZID:America/New_York
BEGIN:DAYLIGHT
TZOFFSETFROM:-0500
TZOFFSETTO:-0400
TZNAME:EDT
DTSTART:20250309T070000
END:DAYLIGHT
BEGIN:STANDARD
TZOFFSETFROM:-0400
TZOFFSETTO:-0500
TZNAME:EST
DTSTART:20251102T060000
END:STANDARD
BEGIN:DAYLIGHT
TZOFFSETFROM:-0500
TZOFFSETTO:-0400
TZNAME:EDT
DTSTART:20260308T070000
END:DAYLIGHT
BEGIN:STANDARD
TZOFFSETFROM:-0400
TZOFFSETTO:-0500
TZNAME:EST
DTSTART:20261101T060000
END:STANDARD
BEGIN:DAYLIGHT
TZOFFSETFROM:-0500
TZOFFSETTO:-0400
TZNAME:EDT
DTSTART:20270314T070000
END:DAYLIGHT
BEGIN:STANDARD
TZOFFSETFROM:-0400
TZOFFSETTO:-0500
TZNAME:EST
DTSTART:20271107T060000
END:STANDARD
BEGIN:DAYLIGHT
TZOFFSETFROM:-0500
TZOFFSETTO:-0400
TZNAME:EDT
DTSTART:20280312T070000
END:DAYLIGHT
BEGIN:STANDARD
TZOFFSETFROM:-0400
TZOFFSETTO:-0500
TZNAME:EST
DTSTART:20281105T060000
END:STANDARD
END:VTIMEZONE
BEGIN:VEVENT
DTSTART;TZID=America/New_York:20260502T130000
DTEND;TZID=America/New_York:20260502T160000
DTSTAMP:20260424T210820
CREATED:20251110T181739Z
LAST-MODIFIED:20260422T164511Z
UID:10000054-1777726800-1777737600@evergreenheritagecenter.org
SUMMARY:Spring Festival & Native Plant Sale
DESCRIPTION:Spring Festival Open House\nSaturday\, May 2 @ 1:00 p.m. to 4:00 p.m.\nFamily fun on the Farm– Join us for our first Open House of the year! Purchase native plants from our annual sale. We’ll have a variety of options including fan favorites such as butterfly weed\, paw paw trees\, and more! Tour our museums and exhibits: Farmhouse Museum\, Living Off the Land Agricultural Museum\, Miner’s Mule Stable\, Boarding House\, Blacksmith Shop\, Mine Opening\, Gatehouse\, and the 1822 Kitchen & Garden. Then grab a bite to eat and visit with local vendors. Make and Take activities for all ages including a plant your own herb station\, wreath making\, and paint your own plant tags! \n*Time Change! At 11:30 a.m. join AmeriCorps Alum\, Reillee Beeman for a guided birding hike. Meet at the Evergreen Barn! \nParking: Please park in the upper parking lot and walk down over the hill. Spaces in the small lot beside the Gateway Pavilion are reserved for those needing ADA accessibility. \nCheck out the event flyer here!
URL:https://evergreenheritagecenter.org/event/spring-festival/
LOCATION:Evergreen Heritage Center\, 15613 Trimble Road Northwest\, Mount Savage\, MD\, 21545\, United States
CATEGORIES:Event,Open House
ATTACH;FMTTYPE=image/jpeg:https://evergreenheritagecenter.org/wp-content/uploads/2025/11/Spring-Fest.jpg
END:VEVENT
BEGIN:VEVENT
DTSTART;TZID=America/New_York:20260520T100000
DTEND;TZID=America/New_York:20260520T140000
DTSTAMP:20260424T210820
CREATED:20260223T194448Z
LAST-MODIFIED:20260302T174852Z
UID:10000195-1779271200-1779285600@evergreenheritagecenter.org
SUMMARY:Open for Native Plant Sales
DESCRIPTION:New in 2026!\nEvergreen will be open every 1st and 3rd Wednesday (10:00 a.m. to 2:00 p.m.) from May through October or while supplies last. No appointments necessary. Stop by and browse our selection of native plants\, shrubs\, and trees! \nDon’t know where to go once you get here? \nThe coordinates for our Plant Stand are 39.68276º N\, 78.87784ºW. \nOur nursery facilities are located to the left of the Brown House\, just past the solar panels. Please park in the small lot (below the large solar array and to the left of the sheds) and head down the stairs to our Plant Stand. If no one is present\, please call the phone number on the sign for assistance and someone will be with you shortly.
URL:https://evergreenheritagecenter.org/event/open-for-native-plant-sales-2/2026-05-20/
CATEGORIES:Plant Pick-up,Plants
ATTACH;FMTTYPE=image/jpeg:https://evergreenheritagecenter.org/wp-content/uploads/2026/02/Plant-Sales.jpg
END:VEVENT
BEGIN:VEVENT
DTSTART;TZID=America/New_York:20260617T100000
DTEND;TZID=America/New_York:20260617T140000
DTSTAMP:20260424T210821
CREATED:20260223T194448Z
LAST-MODIFIED:20260302T174852Z
UID:10000196-1781690400-1781704800@evergreenheritagecenter.org
SUMMARY:Open for Native Plant Sales
DESCRIPTION:New in 2026!\nEvergreen will be open every 1st and 3rd Wednesday (10:00 a.m. to 2:00 p.m.) from May through October or while supplies last. No appointments necessary. Stop by and browse our selection of native plants\, shrubs\, and trees! \nDon’t know where to go once you get here? \nThe coordinates for our Plant Stand are 39.68276º N\, 78.87784ºW. \nOur nursery facilities are located to the left of the Brown House\, just past the solar panels. Please park in the small lot (below the large solar array and to the left of the sheds) and head down the stairs to our Plant Stand. If no one is present\, please call the phone number on the sign for assistance and someone will be with you shortly.
URL:https://evergreenheritagecenter.org/event/open-for-native-plant-sales-2/2026-06-17/
CATEGORIES:Plant Pick-up,Plants
ATTACH;FMTTYPE=image/jpeg:https://evergreenheritagecenter.org/wp-content/uploads/2026/02/Plant-Sales.jpg
END:VEVENT
BEGIN:VEVENT
DTSTART;TZID=America/New_York:20260715T100000
DTEND;TZID=America/New_York:20260715T140000
DTSTAMP:20260424T210821
CREATED:20260223T194448Z
LAST-MODIFIED:20260302T174852Z
UID:10000197-1784109600-1784124000@evergreenheritagecenter.org
SUMMARY:Open for Native Plant Sales
DESCRIPTION:New in 2026!\nEvergreen will be open every 1st and 3rd Wednesday (10:00 a.m. to 2:00 p.m.) from May through October or while supplies last. No appointments necessary. Stop by and browse our selection of native plants\, shrubs\, and trees! \nDon’t know where to go once you get here? \nThe coordinates for our Plant Stand are 39.68276º N\, 78.87784ºW. \nOur nursery facilities are located to the left of the Brown House\, just past the solar panels. Please park in the small lot (below the large solar array and to the left of the sheds) and head down the stairs to our Plant Stand. If no one is present\, please call the phone number on the sign for assistance and someone will be with you shortly.
URL:https://evergreenheritagecenter.org/event/open-for-native-plant-sales-2/2026-07-15/
CATEGORIES:Plant Pick-up,Plants
ATTACH;FMTTYPE=image/jpeg:https://evergreenheritagecenter.org/wp-content/uploads/2026/02/Plant-Sales.jpg
END:VEVENT
BEGIN:VEVENT
DTSTART;TZID=America/New_York:20260819T100000
DTEND;TZID=America/New_York:20260819T140000
DTSTAMP:20260424T210821
CREATED:20260223T194448Z
LAST-MODIFIED:20260302T174852Z
UID:10000198-1787133600-1787148000@evergreenheritagecenter.org
SUMMARY:Open for Native Plant Sales
DESCRIPTION:New in 2026!\nEvergreen will be open every 1st and 3rd Wednesday (10:00 a.m. to 2:00 p.m.) from May through October or while supplies last. No appointments necessary. Stop by and browse our selection of native plants\, shrubs\, and trees! \nDon’t know where to go once you get here? \nThe coordinates for our Plant Stand are 39.68276º N\, 78.87784ºW. \nOur nursery facilities are located to the left of the Brown House\, just past the solar panels. Please park in the small lot (below the large solar array and to the left of the sheds) and head down the stairs to our Plant Stand. If no one is present\, please call the phone number on the sign for assistance and someone will be with you shortly.
URL:https://evergreenheritagecenter.org/event/open-for-native-plant-sales-2/2026-08-19/
CATEGORIES:Plant Pick-up,Plants
ATTACH;FMTTYPE=image/jpeg:https://evergreenheritagecenter.org/wp-content/uploads/2026/02/Plant-Sales.jpg
END:VEVENT
BEGIN:VEVENT
DTSTART;TZID=America/New_York:20260916T100000
DTEND;TZID=America/New_York:20260916T140000
DTSTAMP:20260424T210821
CREATED:20260223T194448Z
LAST-MODIFIED:20260302T174852Z
UID:10000199-1789552800-1789567200@evergreenheritagecenter.org
SUMMARY:Open for Native Plant Sales
DESCRIPTION:New in 2026!\nEvergreen will be open every 1st and 3rd Wednesday (10:00 a.m. to 2:00 p.m.) from May through October or while supplies last. No appointments necessary. Stop by and browse our selection of native plants\, shrubs\, and trees! \nDon’t know where to go once you get here? \nThe coordinates for our Plant Stand are 39.68276º N\, 78.87784ºW. \nOur nursery facilities are located to the left of the Brown House\, just past the solar panels. Please park in the small lot (below the large solar array and to the left of the sheds) and head down the stairs to our Plant Stand. If no one is present\, please call the phone number on the sign for assistance and someone will be with you shortly.
URL:https://evergreenheritagecenter.org/event/open-for-native-plant-sales-2/2026-09-16/
CATEGORIES:Plant Pick-up,Plants
ATTACH;FMTTYPE=image/jpeg:https://evergreenheritagecenter.org/wp-content/uploads/2026/02/Plant-Sales.jpg
END:VEVENT
BEGIN:VEVENT
DTSTART;TZID=America/New_York:20261021T100000
DTEND;TZID=America/New_York:20261021T140000
DTSTAMP:20260424T210821
CREATED:20260223T194448Z
LAST-MODIFIED:20260302T174852Z
UID:10000200-1792576800-1792591200@evergreenheritagecenter.org
SUMMARY:Open for Native Plant Sales
DESCRIPTION:New in 2026!\nEvergreen will be open every 1st and 3rd Wednesday (10:00 a.m. to 2:00 p.m.) from May through October or while supplies last. No appointments necessary. Stop by and browse our selection of native plants\, shrubs\, and trees! \nDon’t know where to go once you get here? \nThe coordinates for our Plant Stand are 39.68276º N\, 78.87784ºW. \nOur nursery facilities are located to the left of the Brown House\, just past the solar panels. Please park in the small lot (below the large solar array and to the left of the sheds) and head down the stairs to our Plant Stand. If no one is present\, please call the phone number on the sign for assistance and someone will be with you shortly.
URL:https://evergreenheritagecenter.org/event/open-for-native-plant-sales-2/2026-10-21/
CATEGORIES:Plant Pick-up,Plants
ATTACH;FMTTYPE=image/jpeg:https://evergreenheritagecenter.org/wp-content/uploads/2026/02/Plant-Sales.jpg
END:VEVENT
BEGIN:VEVENT
DTSTART;TZID=America/New_York:20261118T100000
DTEND;TZID=America/New_York:20261118T140000
DTSTAMP:20260424T210821
CREATED:20260223T194448Z
LAST-MODIFIED:20260302T174852Z
UID:10000201-1794996000-1795010400@evergreenheritagecenter.org
SUMMARY:Open for Native Plant Sales
DESCRIPTION:New in 2026!\nEvergreen will be open every 1st and 3rd Wednesday (10:00 a.m. to 2:00 p.m.) from May through October or while supplies last. No appointments necessary. Stop by and browse our selection of native plants\, shrubs\, and trees! \nDon’t know where to go once you get here? \nThe coordinates for our Plant Stand are 39.68276º N\, 78.87784ºW. \nOur nursery facilities are located to the left of the Brown House\, just past the solar panels. Please park in the small lot (below the large solar array and to the left of the sheds) and head down the stairs to our Plant Stand. If no one is present\, please call the phone number on the sign for assistance and someone will be with you shortly.
URL:https://evergreenheritagecenter.org/event/open-for-native-plant-sales-2/2026-11-18/
CATEGORIES:Plant Pick-up,Plants
ATTACH;FMTTYPE=image/jpeg:https://evergreenheritagecenter.org/wp-content/uploads/2026/02/Plant-Sales.jpg
END:VEVENT
BEGIN:VEVENT
DTSTART;TZID=America/New_York:20261216T100000
DTEND;TZID=America/New_York:20261216T140000
DTSTAMP:20260424T210821
CREATED:20260223T194448Z
LAST-MODIFIED:20260302T174852Z
UID:10000202-1797415200-1797429600@evergreenheritagecenter.org
SUMMARY:Open for Native Plant Sales
DESCRIPTION:New in 2026!\nEvergreen will be open every 1st and 3rd Wednesday (10:00 a.m. to 2:00 p.m.) from May through October or while supplies last. No appointments necessary. Stop by and browse our selection of native plants\, shrubs\, and trees! \nDon’t know where to go once you get here? \nThe coordinates for our Plant Stand are 39.68276º N\, 78.87784ºW. \nOur nursery facilities are located to the left of the Brown House\, just past the solar panels. Please park in the small lot (below the large solar array and to the left of the sheds) and head down the stairs to our Plant Stand. If no one is present\, please call the phone number on the sign for assistance and someone will be with you shortly.
URL:https://evergreenheritagecenter.org/event/open-for-native-plant-sales-2/2026-12-16/
CATEGORIES:Plant Pick-up,Plants
ATTACH;FMTTYPE=image/jpeg:https://evergreenheritagecenter.org/wp-content/uploads/2026/02/Plant-Sales.jpg
END:VEVENT
BEGIN:VEVENT
DTSTART;TZID=America/New_York:20270120T100000
DTEND;TZID=America/New_York:20270120T140000
DTSTAMP:20260424T210821
CREATED:20260223T194448Z
LAST-MODIFIED:20260302T174852Z
UID:10000203-1800439200-1800453600@evergreenheritagecenter.org
SUMMARY:Open for Native Plant Sales
DESCRIPTION:New in 2026!\nEvergreen will be open every 1st and 3rd Wednesday (10:00 a.m. to 2:00 p.m.) from May through October or while supplies last. No appointments necessary. Stop by and browse our selection of native plants\, shrubs\, and trees! \nDon’t know where to go once you get here? \nThe coordinates for our Plant Stand are 39.68276º N\, 78.87784ºW. \nOur nursery facilities are located to the left of the Brown House\, just past the solar panels. Please park in the small lot (below the large solar array and to the left of the sheds) and head down the stairs to our Plant Stand. If no one is present\, please call the phone number on the sign for assistance and someone will be with you shortly.
URL:https://evergreenheritagecenter.org/event/open-for-native-plant-sales-2/2027-01-20/
CATEGORIES:Plant Pick-up,Plants
ATTACH;FMTTYPE=image/jpeg:https://evergreenheritagecenter.org/wp-content/uploads/2026/02/Plant-Sales.jpg
END:VEVENT
BEGIN:VEVENT
DTSTART;TZID=America/New_York:20270217T100000
DTEND;TZID=America/New_York:20270217T140000
DTSTAMP:20260424T210821
CREATED:20260223T194448Z
LAST-MODIFIED:20260302T174852Z
UID:10000204-1802858400-1802872800@evergreenheritagecenter.org
SUMMARY:Open for Native Plant Sales
DESCRIPTION:New in 2026!\nEvergreen will be open every 1st and 3rd Wednesday (10:00 a.m. to 2:00 p.m.) from May through October or while supplies last. No appointments necessary. Stop by and browse our selection of native plants\, shrubs\, and trees! \nDon’t know where to go once you get here? \nThe coordinates for our Plant Stand are 39.68276º N\, 78.87784ºW. \nOur nursery facilities are located to the left of the Brown House\, just past the solar panels. Please park in the small lot (below the large solar array and to the left of the sheds) and head down the stairs to our Plant Stand. If no one is present\, please call the phone number on the sign for assistance and someone will be with you shortly.
URL:https://evergreenheritagecenter.org/event/open-for-native-plant-sales-2/2027-02-17/
CATEGORIES:Plant Pick-up,Plants
ATTACH;FMTTYPE=image/jpeg:https://evergreenheritagecenter.org/wp-content/uploads/2026/02/Plant-Sales.jpg
END:VEVENT
BEGIN:VEVENT
DTSTART;TZID=America/New_York:20270317T100000
DTEND;TZID=America/New_York:20270317T140000
DTSTAMP:20260424T210821
CREATED:20260223T194448Z
LAST-MODIFIED:20260302T174852Z
UID:10000205-1805277600-1805292000@evergreenheritagecenter.org
SUMMARY:Open for Native Plant Sales
DESCRIPTION:New in 2026!\nEvergreen will be open every 1st and 3rd Wednesday (10:00 a.m. to 2:00 p.m.) from May through October or while supplies last. No appointments necessary. Stop by and browse our selection of native plants\, shrubs\, and trees! \nDon’t know where to go once you get here? \nThe coordinates for our Plant Stand are 39.68276º N\, 78.87784ºW. \nOur nursery facilities are located to the left of the Brown House\, just past the solar panels. Please park in the small lot (below the large solar array and to the left of the sheds) and head down the stairs to our Plant Stand. If no one is present\, please call the phone number on the sign for assistance and someone will be with you shortly.
URL:https://evergreenheritagecenter.org/event/open-for-native-plant-sales-2/2027-03-17/
CATEGORIES:Plant Pick-up,Plants
ATTACH;FMTTYPE=image/jpeg:https://evergreenheritagecenter.org/wp-content/uploads/2026/02/Plant-Sales.jpg
END:VEVENT
BEGIN:VEVENT
DTSTART;TZID=America/New_York:20270421T100000
DTEND;TZID=America/New_York:20270421T140000
DTSTAMP:20260424T210821
CREATED:20260223T194448Z
LAST-MODIFIED:20260302T174852Z
UID:10000206-1808301600-1808316000@evergreenheritagecenter.org
SUMMARY:Open for Native Plant Sales
DESCRIPTION:New in 2026!\nEvergreen will be open every 1st and 3rd Wednesday (10:00 a.m. to 2:00 p.m.) from May through October or while supplies last. No appointments necessary. Stop by and browse our selection of native plants\, shrubs\, and trees! \nDon’t know where to go once you get here? \nThe coordinates for our Plant Stand are 39.68276º N\, 78.87784ºW. \nOur nursery facilities are located to the left of the Brown House\, just past the solar panels. Please park in the small lot (below the large solar array and to the left of the sheds) and head down the stairs to our Plant Stand. If no one is present\, please call the phone number on the sign for assistance and someone will be with you shortly.
URL:https://evergreenheritagecenter.org/event/open-for-native-plant-sales-2/2027-04-21/
CATEGORIES:Plant Pick-up,Plants
ATTACH;FMTTYPE=image/jpeg:https://evergreenheritagecenter.org/wp-content/uploads/2026/02/Plant-Sales.jpg
END:VEVENT
BEGIN:VEVENT
DTSTART;TZID=America/New_York:20270519T100000
DTEND;TZID=America/New_York:20270519T140000
DTSTAMP:20260424T210821
CREATED:20260223T194448Z
LAST-MODIFIED:20260302T174852Z
UID:10000207-1810720800-1810735200@evergreenheritagecenter.org
SUMMARY:Open for Native Plant Sales
DESCRIPTION:New in 2026!\nEvergreen will be open every 1st and 3rd Wednesday (10:00 a.m. to 2:00 p.m.) from May through October or while supplies last. No appointments necessary. Stop by and browse our selection of native plants\, shrubs\, and trees! \nDon’t know where to go once you get here? \nThe coordinates for our Plant Stand are 39.68276º N\, 78.87784ºW. \nOur nursery facilities are located to the left of the Brown House\, just past the solar panels. Please park in the small lot (below the large solar array and to the left of the sheds) and head down the stairs to our Plant Stand. If no one is present\, please call the phone number on the sign for assistance and someone will be with you shortly.
URL:https://evergreenheritagecenter.org/event/open-for-native-plant-sales-2/2027-05-19/
CATEGORIES:Plant Pick-up,Plants
ATTACH;FMTTYPE=image/jpeg:https://evergreenheritagecenter.org/wp-content/uploads/2026/02/Plant-Sales.jpg
END:VEVENT
BEGIN:VEVENT
DTSTART;TZID=America/New_York:20270616T100000
DTEND;TZID=America/New_York:20270616T140000
DTSTAMP:20260424T210821
CREATED:20260223T194448Z
LAST-MODIFIED:20260302T174852Z
UID:10000208-1813140000-1813154400@evergreenheritagecenter.org
SUMMARY:Open for Native Plant Sales
DESCRIPTION:New in 2026!\nEvergreen will be open every 1st and 3rd Wednesday (10:00 a.m. to 2:00 p.m.) from May through October or while supplies last. No appointments necessary. Stop by and browse our selection of native plants\, shrubs\, and trees! \nDon’t know where to go once you get here? \nThe coordinates for our Plant Stand are 39.68276º N\, 78.87784ºW. \nOur nursery facilities are located to the left of the Brown House\, just past the solar panels. Please park in the small lot (below the large solar array and to the left of the sheds) and head down the stairs to our Plant Stand. If no one is present\, please call the phone number on the sign for assistance and someone will be with you shortly.
URL:https://evergreenheritagecenter.org/event/open-for-native-plant-sales-2/2027-06-16/
CATEGORIES:Plant Pick-up,Plants
ATTACH;FMTTYPE=image/jpeg:https://evergreenheritagecenter.org/wp-content/uploads/2026/02/Plant-Sales.jpg
END:VEVENT
BEGIN:VEVENT
DTSTART;TZID=America/New_York:20270721T100000
DTEND;TZID=America/New_York:20270721T140000
DTSTAMP:20260424T210821
CREATED:20260223T194448Z
LAST-MODIFIED:20260302T174852Z
UID:10000209-1816164000-1816178400@evergreenheritagecenter.org
SUMMARY:Open for Native Plant Sales
DESCRIPTION:New in 2026!\nEvergreen will be open every 1st and 3rd Wednesday (10:00 a.m. to 2:00 p.m.) from May through October or while supplies last. No appointments necessary. Stop by and browse our selection of native plants\, shrubs\, and trees! \nDon’t know where to go once you get here? \nThe coordinates for our Plant Stand are 39.68276º N\, 78.87784ºW. \nOur nursery facilities are located to the left of the Brown House\, just past the solar panels. Please park in the small lot (below the large solar array and to the left of the sheds) and head down the stairs to our Plant Stand. If no one is present\, please call the phone number on the sign for assistance and someone will be with you shortly.
URL:https://evergreenheritagecenter.org/event/open-for-native-plant-sales-2/2027-07-21/
CATEGORIES:Plant Pick-up,Plants
ATTACH;FMTTYPE=image/jpeg:https://evergreenheritagecenter.org/wp-content/uploads/2026/02/Plant-Sales.jpg
END:VEVENT
BEGIN:VEVENT
DTSTART;TZID=America/New_York:20270818T100000
DTEND;TZID=America/New_York:20270818T140000
DTSTAMP:20260424T210821
CREATED:20260223T194448Z
LAST-MODIFIED:20260302T174852Z
UID:10000210-1818583200-1818597600@evergreenheritagecenter.org
SUMMARY:Open for Native Plant Sales
DESCRIPTION:New in 2026!\nEvergreen will be open every 1st and 3rd Wednesday (10:00 a.m. to 2:00 p.m.) from May through October or while supplies last. No appointments necessary. Stop by and browse our selection of native plants\, shrubs\, and trees! \nDon’t know where to go once you get here? \nThe coordinates for our Plant Stand are 39.68276º N\, 78.87784ºW. \nOur nursery facilities are located to the left of the Brown House\, just past the solar panels. Please park in the small lot (below the large solar array and to the left of the sheds) and head down the stairs to our Plant Stand. If no one is present\, please call the phone number on the sign for assistance and someone will be with you shortly.
URL:https://evergreenheritagecenter.org/event/open-for-native-plant-sales-2/2027-08-18/
CATEGORIES:Plant Pick-up,Plants
ATTACH;FMTTYPE=image/jpeg:https://evergreenheritagecenter.org/wp-content/uploads/2026/02/Plant-Sales.jpg
END:VEVENT
BEGIN:VEVENT
DTSTART;TZID=America/New_York:20270915T100000
DTEND;TZID=America/New_York:20270915T140000
DTSTAMP:20260424T210821
CREATED:20260223T194448Z
LAST-MODIFIED:20260302T174852Z
UID:10000211-1821002400-1821016800@evergreenheritagecenter.org
SUMMARY:Open for Native Plant Sales
DESCRIPTION:New in 2026!\nEvergreen will be open every 1st and 3rd Wednesday (10:00 a.m. to 2:00 p.m.) from May through October or while supplies last. No appointments necessary. Stop by and browse our selection of native plants\, shrubs\, and trees! \nDon’t know where to go once you get here? \nThe coordinates for our Plant Stand are 39.68276º N\, 78.87784ºW. \nOur nursery facilities are located to the left of the Brown House\, just past the solar panels. Please park in the small lot (below the large solar array and to the left of the sheds) and head down the stairs to our Plant Stand. If no one is present\, please call the phone number on the sign for assistance and someone will be with you shortly.
URL:https://evergreenheritagecenter.org/event/open-for-native-plant-sales-2/2027-09-15/
CATEGORIES:Plant Pick-up,Plants
ATTACH;FMTTYPE=image/jpeg:https://evergreenheritagecenter.org/wp-content/uploads/2026/02/Plant-Sales.jpg
END:VEVENT
END:VCALENDAR