BEGIN:VCALENDAR
VERSION:2.0
PRODID:-//Evergreen Heritage Center Foundation - ECPv6.15.20//NONSGML v1.0//EN
CALSCALE:GREGORIAN
METHOD:PUBLISH
X-ORIGINAL-URL:https://evergreenheritagecenter.org
X-WR-CALDESC:Events for Evergreen Heritage Center Foundation
REFRESH-INTERVAL;VALUE=DURATION:PT1H
X-Robots-Tag:noindex
X-PUBLISHED-TTL:PT1H
BEGIN:VTIMEZONE
TZID:America/New_York
BEGIN:DAYLIGHT
TZOFFSETFROM:-0500
TZOFFSETTO:-0400
TZNAME:EDT
DTSTART:20250309T070000
END:DAYLIGHT
BEGIN:STANDARD
TZOFFSETFROM:-0400
TZOFFSETTO:-0500
TZNAME:EST
DTSTART:20251102T060000
END:STANDARD
BEGIN:DAYLIGHT
TZOFFSETFROM:-0500
TZOFFSETTO:-0400
TZNAME:EDT
DTSTART:20260308T070000
END:DAYLIGHT
BEGIN:STANDARD
TZOFFSETFROM:-0400
TZOFFSETTO:-0500
TZNAME:EST
DTSTART:20261101T060000
END:STANDARD
BEGIN:DAYLIGHT
TZOFFSETFROM:-0500
TZOFFSETTO:-0400
TZNAME:EDT
DTSTART:20270314T070000
END:DAYLIGHT
BEGIN:STANDARD
TZOFFSETFROM:-0400
TZOFFSETTO:-0500
TZNAME:EST
DTSTART:20271107T060000
END:STANDARD
END:VTIMEZONE
BEGIN:VEVENT
DTSTART;TZID=America/New_York:20260904T100000
DTEND;TZID=America/New_York:20260904T140000
DTSTAMP:20260425T000318
CREATED:20260223T175742Z
LAST-MODIFIED:20260223T175742Z
UID:10000150-1788516000-1788530400@evergreenheritagecenter.org
SUMMARY:OPEN for Museum Tours
DESCRIPTION:New in 2026! Evergreen Heritage Center will be open for Museum Tours every Wednesday and Friday from 10:00 a.m. to 2:00 p.m. from May-October. \nRegistration is not required\, but strongly recommended. Tours are free\, allow donations are always appreciated. \nMuseums and Exhibits Include: \n\nFarmhouse Museum\nLiving Off the Land Agriculture Museum\nMiner’s Coal Museum & Coal Camp\n1822 Kitchen Exhibit\nGatehouse Exhibit\n\nPlease enable JavaScript in your browser to complete this form.Please enable JavaScript in your browser to complete this form.Schedule a Museum Tour @ EvergreenOur museums are open from May to October every Wednesday and Friday from 10:00 a.m. to 2:00 p.m.  Tours are free of charge\, although donations are greatly appreciated. Name *FirstLastPhone *Email *		\n			Your a you\n			\n		\n		Number of Guests in Your Party *Which museums/exhibits would your like to tour? *Farmhouse MuseumLiving off the Land Agricultural MuseumMiner's Coal Museum & Coal CampGatehouse Exhibit1822 Kitchen & Garden ExhibitWhat date and time will you be visiting us? *We are open every Wednesday and Friday (10:00 a.m. to 2:00 p.m.) from May through October. Is there anything else you'd like to share?Submit
URL:https://evergreenheritagecenter.org/event/open-for-museum-tours-2/2026-09-04/
LOCATION:Evergreen Heritage Center\, 15613 Trimble Road Northwest\, Mount Savage\, MD\, 21545\, United States
CATEGORIES:Museum Tour
ATTACH;FMTTYPE=image/png:https://evergreenheritagecenter.org/wp-content/uploads/2026/02/Museum-Tours.png
END:VEVENT
BEGIN:VEVENT
DTSTART;TZID=America/New_York:20260911T100000
DTEND;TZID=America/New_York:20260911T140000
DTSTAMP:20260425T000318
CREATED:20260223T175742Z
LAST-MODIFIED:20260223T175742Z
UID:10000151-1789120800-1789135200@evergreenheritagecenter.org
SUMMARY:OPEN for Museum Tours
DESCRIPTION:New in 2026! Evergreen Heritage Center will be open for Museum Tours every Wednesday and Friday from 10:00 a.m. to 2:00 p.m. from May-October. \nRegistration is not required\, but strongly recommended. Tours are free\, allow donations are always appreciated. \nMuseums and Exhibits Include: \n\nFarmhouse Museum\nLiving Off the Land Agriculture Museum\nMiner’s Coal Museum & Coal Camp\n1822 Kitchen Exhibit\nGatehouse Exhibit\n\nPlease enable JavaScript in your browser to complete this form.Please enable JavaScript in your browser to complete this form.Schedule a Museum Tour @ EvergreenOur museums are open from May to October every Wednesday and Friday from 10:00 a.m. to 2:00 p.m.  Tours are free of charge\, although donations are greatly appreciated. Name *FirstLastPhone *Email *Number of Guests in Your Party *		\n			in visiting @\n			\n		\n		Which museums/exhibits would your like to tour? *Farmhouse MuseumLiving off the Land Agricultural MuseumMiner's Coal Museum & Coal CampGatehouse Exhibit1822 Kitchen & Garden ExhibitWhat date and time will you be visiting us? *We are open every Wednesday and Friday (10:00 a.m. to 2:00 p.m.) from May through October. Is there anything else you'd like to share?Submit
URL:https://evergreenheritagecenter.org/event/open-for-museum-tours-2/2026-09-11/
LOCATION:Evergreen Heritage Center\, 15613 Trimble Road Northwest\, Mount Savage\, MD\, 21545\, United States
CATEGORIES:Museum Tour
ATTACH;FMTTYPE=image/png:https://evergreenheritagecenter.org/wp-content/uploads/2026/02/Museum-Tours.png
END:VEVENT
BEGIN:VEVENT
DTSTART;TZID=America/New_York:20260918T100000
DTEND;TZID=America/New_York:20260918T140000
DTSTAMP:20260425T000318
CREATED:20260223T175742Z
LAST-MODIFIED:20260223T175742Z
UID:10000152-1789725600-1789740000@evergreenheritagecenter.org
SUMMARY:OPEN for Museum Tours
DESCRIPTION:New in 2026! Evergreen Heritage Center will be open for Museum Tours every Wednesday and Friday from 10:00 a.m. to 2:00 p.m. from May-October. \nRegistration is not required\, but strongly recommended. Tours are free\, allow donations are always appreciated. \nMuseums and Exhibits Include: \n\nFarmhouse Museum\nLiving Off the Land Agriculture Museum\nMiner’s Coal Museum & Coal Camp\n1822 Kitchen Exhibit\nGatehouse Exhibit\n\nPlease enable JavaScript in your browser to complete this form.Please enable JavaScript in your browser to complete this form.Schedule a Museum Tour @ EvergreenOur museums are open from May to October every Wednesday and Friday from 10:00 a.m. to 2:00 p.m.  Tours are free of charge\, although donations are greatly appreciated. Name *FirstLastPhone *Email *Number of Guests in Your Party *		\n			be Schedule and\n			\n		\n		Which museums/exhibits would your like to tour? *Farmhouse MuseumLiving off the Land Agricultural MuseumMiner's Coal Museum & Coal CampGatehouse Exhibit1822 Kitchen & Garden ExhibitWhat date and time will you be visiting us? *We are open every Wednesday and Friday (10:00 a.m. to 2:00 p.m.) from May through October. Is there anything else you'd like to share?Submit
URL:https://evergreenheritagecenter.org/event/open-for-museum-tours-2/2026-09-18/
LOCATION:Evergreen Heritage Center\, 15613 Trimble Road Northwest\, Mount Savage\, MD\, 21545\, United States
CATEGORIES:Museum Tour
ATTACH;FMTTYPE=image/png:https://evergreenheritagecenter.org/wp-content/uploads/2026/02/Museum-Tours.png
END:VEVENT
BEGIN:VEVENT
DTSTART;TZID=America/New_York:20260925T100000
DTEND;TZID=America/New_York:20260925T140000
DTSTAMP:20260425T000318
CREATED:20260223T175742Z
LAST-MODIFIED:20260223T175742Z
UID:10000153-1790330400-1790344800@evergreenheritagecenter.org
SUMMARY:OPEN for Museum Tours
DESCRIPTION:New in 2026! Evergreen Heritage Center will be open for Museum Tours every Wednesday and Friday from 10:00 a.m. to 2:00 p.m. from May-October. \nRegistration is not required\, but strongly recommended. Tours are free\, allow donations are always appreciated. \nMuseums and Exhibits Include: \n\nFarmhouse Museum\nLiving Off the Land Agriculture Museum\nMiner’s Coal Museum & Coal Camp\n1822 Kitchen Exhibit\nGatehouse Exhibit\n\nPlease enable JavaScript in your browser to complete this form.Please enable JavaScript in your browser to complete this form.Schedule a Museum Tour @ EvergreenOur museums are open from May to October every Wednesday and Friday from 10:00 a.m. to 2:00 p.m.  Tours are free of charge\, although donations are greatly appreciated. Name *FirstLastPhone *Email *Number of Guests in Your Party *Which museums/exhibits would your like to tour? *Farmhouse MuseumLiving off the Land Agricultural MuseumMiner's Coal Museum & Coal CampGatehouse Exhibit1822 Kitchen & Garden ExhibitWhat date and time will you be visiting us? *We are open every Wednesday and Friday (10:00 a.m. to 2:00 p.m.) from May through October. 		\n			like to of\n			\n		\n		Is there anything else you'd like to share?Submit
URL:https://evergreenheritagecenter.org/event/open-for-museum-tours-2/2026-09-25/
LOCATION:Evergreen Heritage Center\, 15613 Trimble Road Northwest\, Mount Savage\, MD\, 21545\, United States
CATEGORIES:Museum Tour
ATTACH;FMTTYPE=image/png:https://evergreenheritagecenter.org/wp-content/uploads/2026/02/Museum-Tours.png
END:VEVENT
BEGIN:VEVENT
DTSTART;TZID=America/New_York:20261002T100000
DTEND;TZID=America/New_York:20261002T140000
DTSTAMP:20260425T000318
CREATED:20260223T175742Z
LAST-MODIFIED:20260223T175742Z
UID:10000154-1790935200-1790949600@evergreenheritagecenter.org
SUMMARY:OPEN for Museum Tours
DESCRIPTION:New in 2026! Evergreen Heritage Center will be open for Museum Tours every Wednesday and Friday from 10:00 a.m. to 2:00 p.m. from May-October. \nRegistration is not required\, but strongly recommended. Tours are free\, allow donations are always appreciated. \nMuseums and Exhibits Include: \n\nFarmhouse Museum\nLiving Off the Land Agriculture Museum\nMiner’s Coal Museum & Coal Camp\n1822 Kitchen Exhibit\nGatehouse Exhibit\n\nPlease enable JavaScript in your browser to complete this form.Please enable JavaScript in your browser to complete this form.Schedule a Museum Tour @ EvergreenOur museums are open from May to October every Wednesday and Friday from 10:00 a.m. to 2:00 p.m.  Tours are free of charge\, although donations are greatly appreciated. Name *FirstLast		\n			Museum to @\n			\n		\n		Phone *Email *Number of Guests in Your Party *Which museums/exhibits would your like to tour? *Farmhouse MuseumLiving off the Land Agricultural MuseumMiner's Coal Museum & Coal CampGatehouse Exhibit1822 Kitchen & Garden ExhibitWhat date and time will you be visiting us? *We are open every Wednesday and Friday (10:00 a.m. to 2:00 p.m.) from May through October. Is there anything else you'd like to share?Submit
URL:https://evergreenheritagecenter.org/event/open-for-museum-tours-2/2026-10-02/
LOCATION:Evergreen Heritage Center\, 15613 Trimble Road Northwest\, Mount Savage\, MD\, 21545\, United States
CATEGORIES:Museum Tour
ATTACH;FMTTYPE=image/png:https://evergreenheritagecenter.org/wp-content/uploads/2026/02/Museum-Tours.png
END:VEVENT
BEGIN:VEVENT
DTSTART;TZID=America/New_York:20261009T100000
DTEND;TZID=America/New_York:20261009T140000
DTSTAMP:20260425T000318
CREATED:20260223T175742Z
LAST-MODIFIED:20260223T175742Z
UID:10000155-1791540000-1791554400@evergreenheritagecenter.org
SUMMARY:OPEN for Museum Tours
DESCRIPTION:New in 2026! Evergreen Heritage Center will be open for Museum Tours every Wednesday and Friday from 10:00 a.m. to 2:00 p.m. from May-October. \nRegistration is not required\, but strongly recommended. Tours are free\, allow donations are always appreciated. \nMuseums and Exhibits Include: \n\nFarmhouse Museum\nLiving Off the Land Agriculture Museum\nMiner’s Coal Museum & Coal Camp\n1822 Kitchen Exhibit\nGatehouse Exhibit\n\nPlease enable JavaScript in your browser to complete this form.Please enable JavaScript in your browser to complete this form.Schedule a Museum Tour @ EvergreenOur museums are open from May to October every Wednesday and Friday from 10:00 a.m. to 2:00 p.m.  Tours are free of charge\, although donations are greatly appreciated. Name *FirstLastPhone *Email *Number of Guests in Your Party *		\n			you Party Which\n			\n		\n		Which museums/exhibits would your like to tour? *Farmhouse MuseumLiving off the Land Agricultural MuseumMiner's Coal Museum & Coal CampGatehouse Exhibit1822 Kitchen & Garden ExhibitWhat date and time will you be visiting us? *We are open every Wednesday and Friday (10:00 a.m. to 2:00 p.m.) from May through October. Is there anything else you'd like to share?Submit
URL:https://evergreenheritagecenter.org/event/open-for-museum-tours-2/2026-10-09/
LOCATION:Evergreen Heritage Center\, 15613 Trimble Road Northwest\, Mount Savage\, MD\, 21545\, United States
CATEGORIES:Museum Tour
ATTACH;FMTTYPE=image/png:https://evergreenheritagecenter.org/wp-content/uploads/2026/02/Museum-Tours.png
END:VEVENT
BEGIN:VEVENT
DTSTART;TZID=America/New_York:20261016T100000
DTEND;TZID=America/New_York:20261016T140000
DTSTAMP:20260425T000318
CREATED:20260223T175742Z
LAST-MODIFIED:20260223T175742Z
UID:10000156-1792144800-1792159200@evergreenheritagecenter.org
SUMMARY:OPEN for Museum Tours
DESCRIPTION:New in 2026! Evergreen Heritage Center will be open for Museum Tours every Wednesday and Friday from 10:00 a.m. to 2:00 p.m. from May-October. \nRegistration is not required\, but strongly recommended. Tours are free\, allow donations are always appreciated. \nMuseums and Exhibits Include: \n\nFarmhouse Museum\nLiving Off the Land Agriculture Museum\nMiner’s Coal Museum & Coal Camp\n1822 Kitchen Exhibit\nGatehouse Exhibit\n\nPlease enable JavaScript in your browser to complete this form.Please enable JavaScript in your browser to complete this form.Schedule a Museum Tour @ EvergreenOur museums are open from May to October every Wednesday and Friday from 10:00 a.m. to 2:00 p.m.  Tours are free of charge\, although donations are greatly appreciated. Name *FirstLastPhone *		\n			Tour be museums/exhibits\n			\n		\n		Email *Number of Guests in Your Party *Which museums/exhibits would your like to tour? *Farmhouse MuseumLiving off the Land Agricultural MuseumMiner's Coal Museum & Coal CampGatehouse Exhibit1822 Kitchen & Garden ExhibitWhat date and time will you be visiting us? *We are open every Wednesday and Friday (10:00 a.m. to 2:00 p.m.) from May through October. Is there anything else you'd like to share?Submit
URL:https://evergreenheritagecenter.org/event/open-for-museum-tours-2/2026-10-16/
LOCATION:Evergreen Heritage Center\, 15613 Trimble Road Northwest\, Mount Savage\, MD\, 21545\, United States
CATEGORIES:Museum Tour
ATTACH;FMTTYPE=image/png:https://evergreenheritagecenter.org/wp-content/uploads/2026/02/Museum-Tours.png
END:VEVENT
BEGIN:VEVENT
DTSTART;TZID=America/New_York:20261023T100000
DTEND;TZID=America/New_York:20261023T140000
DTSTAMP:20260425T000318
CREATED:20260223T175742Z
LAST-MODIFIED:20260223T175742Z
UID:10000157-1792749600-1792764000@evergreenheritagecenter.org
SUMMARY:OPEN for Museum Tours
DESCRIPTION:New in 2026! Evergreen Heritage Center will be open for Museum Tours every Wednesday and Friday from 10:00 a.m. to 2:00 p.m. from May-October. \nRegistration is not required\, but strongly recommended. Tours are free\, allow donations are always appreciated. \nMuseums and Exhibits Include: \n\nFarmhouse Museum\nLiving Off the Land Agriculture Museum\nMiner’s Coal Museum & Coal Camp\n1822 Kitchen Exhibit\nGatehouse Exhibit\n\nPlease enable JavaScript in your browser to complete this form.Please enable JavaScript in your browser to complete this form.Schedule a Museum Tour @ EvergreenOur museums are open from May to October every Wednesday and Friday from 10:00 a.m. to 2:00 p.m.  Tours are free of charge\, although donations are greatly appreciated. Name *FirstLastPhone *Email *		\n			you'd like @\n			\n		\n		Number of Guests in Your Party *Which museums/exhibits would your like to tour? *Farmhouse MuseumLiving off the Land Agricultural MuseumMiner's Coal Museum & Coal CampGatehouse Exhibit1822 Kitchen & Garden ExhibitWhat date and time will you be visiting us? *We are open every Wednesday and Friday (10:00 a.m. to 2:00 p.m.) from May through October. Is there anything else you'd like to share?Submit
URL:https://evergreenheritagecenter.org/event/open-for-museum-tours-2/2026-10-23/
LOCATION:Evergreen Heritage Center\, 15613 Trimble Road Northwest\, Mount Savage\, MD\, 21545\, United States
CATEGORIES:Museum Tour
ATTACH;FMTTYPE=image/png:https://evergreenheritagecenter.org/wp-content/uploads/2026/02/Museum-Tours.png
END:VEVENT
BEGIN:VEVENT
DTSTART;TZID=America/New_York:20261030T100000
DTEND;TZID=America/New_York:20261030T140000
DTSTAMP:20260425T000318
CREATED:20260223T175742Z
LAST-MODIFIED:20260223T175742Z
UID:10000158-1793354400-1793368800@evergreenheritagecenter.org
SUMMARY:OPEN for Museum Tours
DESCRIPTION:New in 2026! Evergreen Heritage Center will be open for Museum Tours every Wednesday and Friday from 10:00 a.m. to 2:00 p.m. from May-October. \nRegistration is not required\, but strongly recommended. Tours are free\, allow donations are always appreciated. \nMuseums and Exhibits Include: \n\nFarmhouse Museum\nLiving Off the Land Agriculture Museum\nMiner’s Coal Museum & Coal Camp\n1822 Kitchen Exhibit\nGatehouse Exhibit\n\nPlease enable JavaScript in your browser to complete this form.Please enable JavaScript in your browser to complete this form.		\n			else Museum Schedule\n			\n		\n		Schedule a Museum Tour @ EvergreenOur museums are open from May to October every Wednesday and Friday from 10:00 a.m. to 2:00 p.m.  Tours are free of charge\, although donations are greatly appreciated. Name *FirstLastPhone *Email *Number of Guests in Your Party *Which museums/exhibits would your like to tour? *Farmhouse MuseumLiving off the Land Agricultural MuseumMiner's Coal Museum & Coal CampGatehouse Exhibit1822 Kitchen & Garden ExhibitWhat date and time will you be visiting us? *We are open every Wednesday and Friday (10:00 a.m. to 2:00 p.m.) from May through October. Is there anything else you'd like to share?Submit
URL:https://evergreenheritagecenter.org/event/open-for-museum-tours-2/2026-10-30/
LOCATION:Evergreen Heritage Center\, 15613 Trimble Road Northwest\, Mount Savage\, MD\, 21545\, United States
CATEGORIES:Museum Tour
ATTACH;FMTTYPE=image/png:https://evergreenheritagecenter.org/wp-content/uploads/2026/02/Museum-Tours.png
END:VEVENT
BEGIN:VEVENT
DTSTART;TZID=America/New_York:20261114T130000
DTEND;TZID=America/New_York:20261114T150000
DTSTAMP:20260425T000318
CREATED:20251114T194340Z
LAST-MODIFIED:20251119T133910Z
UID:10000059-1794661200-1794668400@evergreenheritagecenter.org
SUMMARY:An Evergreen Christmas
DESCRIPTION:An Evergreen Christmas\nSaturday\, November 14 @ 1:00 p.m. to 3:00 p.m\nExplore the Evergreen Farmhouse in full Christmas Fashion! Take a tour\, drink hot coco\, and decorate christmas cookies in the Learning Center. We’ll even have a gift wrapping station so you can bring a gift or two to decorate with all the works! \nParking: Please park in the upper parking lot and walk down over the hill. Spaces in the small lot beside the Gateway Pavilion are reserved for those needing ADA accessibility. \n 
URL:https://evergreenheritagecenter.org/event/an-evergreen-christmas/
LOCATION:MD
CATEGORIES:Event,Museum Tour
ATTACH;FMTTYPE=image/jpeg:https://evergreenheritagecenter.org/wp-content/uploads/2025/11/Evergreen-Christmas.jpg
END:VEVENT
END:VCALENDAR